BEGIN:VCALENDAR
VERSION:2.0
PRODID:-//Helpful Hands CPR - ECPv6.15.18//NONSGML v1.0//EN
CALSCALE:GREGORIAN
METHOD:PUBLISH
X-ORIGINAL-URL:https://helpfulhandscpr.com
X-WR-CALDESC:Events for Helpful Hands CPR
REFRESH-INTERVAL;VALUE=DURATION:PT1H
X-Robots-Tag:noindex
X-PUBLISHED-TTL:PT1H
BEGIN:VTIMEZONE
TZID:UTC
BEGIN:STANDARD
TZOFFSETFROM:+0000
TZOFFSETTO:+0000
TZNAME:UTC
DTSTART:20220101T000000
END:STANDARD
END:VTIMEZONE
BEGIN:VEVENT
DTSTART;TZID=UTC:20230218T090000
DTEND;TZID=UTC:20230218T110000
DTSTAMP:20260423T011939
CREATED:20230210T045924Z
LAST-MODIFIED:20230224T000957Z
UID:1984-1676710800-1676718000@helpfulhandscpr.com
SUMMARY:February 18\, 2023 - Waltham - Basic Life Support (BLS) CPR AED Course
DESCRIPTION:Online Course \nLearn from home! This online course is provided as part of the American Red Cross Blended Learning program. Participants are required to complete the online training PRIOR to the in person skill based class. Participants must provide proof of completion upon arrival. \nNOTE: A LINK TO YOUR ONLINE COURSE WILL BE PROVIDED UPON REGISTRATION AND SENT TO YOU IN A CONFIRMATION EMAIL AFTER REGISTRATION IS COMPLETE. IF YOU DO NOT FIND YOUR CONFIRMATION EMAIL\, PLEASE CHECK YOUR SPAM OR PROMO FOLDERS. \nI understand that I am signing up for a blended learning class\, which includes an initial online course and it is my responsibility to complete the online course before my scheduled class.
URL:https://helpfulhandscpr.com/event/february-18-2023-waltham-basic-life-support-bls-cpr-aed-course/
LOCATION:Waltham VFW\, 623 Trapelo Rd\, Waltham\, MA\, 02452\, United States
CATEGORIES:All Except Schools
ATTACH;FMTTYPE=image/jpeg:https://helpfulhandscpr.com/wp-content/uploads/2022/06/Screenshot-2022-06-08-at-02-35-48-f06673_f2309b1bcffa4bc3bb94194aa0c313a4mv2.webp-WEBP-Image-635-×-635-pixels-—-Scaled-98.jpg
ORGANIZER;CN="Helpful Hands CPR":MAILTO:gary@helpfulhandscpr.com
END:VEVENT
BEGIN:VEVENT
DTSTART;TZID=UTC:20230218T093000
DTEND;TZID=UTC:20230218T113000
DTSTAMP:20260423T011939
CREATED:20230202T234522Z
LAST-MODIFIED:20230224T000951Z
UID:1976-1676712600-1676719800@helpfulhandscpr.com
SUMMARY:February 18\, 2023 – AUBURN CMG Home Loan Office – Basic Life Support (BLS) CPR AED Course
DESCRIPTION:Online Course \nLearn from home! This online course is provided as part of the American Red Cross Blended Learning program. Participants are required to complete the online training PRIOR to the in person skill based class. Participants must provide proof of completion upon arrival. \nNOTE: A LINK TO YOUR ONLINE COURSE WILL BE PROVIDED UPON REGISTRATION AND SENT TO YOU IN A CONFIRMATION EMAIL AFTER REGISTRATION IS COMPLETE. IF YOU DO NOT FIND YOUR CONFIRMATION EMAIL\, PLEASE CHECK YOUR SPAM OR PROMO FOLDERS. \nI understand that I am signing up for a blended learning class\, which includes an initial online course and it is my responsibility to complete the online course before my scheduled class.
URL:https://helpfulhandscpr.com/event/february-18-2023-auburn-cmg-home-loan-office-basic-life-support-bls-cpr-aed-course/
LOCATION:CMG Office\, 732 Southbridge St (Route 12)\, Unit #3\, Auburn\, MA\, 01501\, United States
CATEGORIES:All Except Schools
ATTACH;FMTTYPE=image/jpeg:https://helpfulhandscpr.com/wp-content/uploads/2022/06/Screenshot-2022-06-08-at-02-35-48-f06673_f2309b1bcffa4bc3bb94194aa0c313a4mv2.webp-WEBP-Image-635-×-635-pixels-—-Scaled-98.jpg
ORGANIZER;CN="Helpful Hands CPR":MAILTO:gary@helpfulhandscpr.com
END:VEVENT
BEGIN:VEVENT
DTSTART;TZID=UTC:20230225T093000
DTEND;TZID=UTC:20230225T113000
DTSTAMP:20260423T011939
CREATED:20230202T234801Z
LAST-MODIFIED:20230224T000846Z
UID:1979-1677317400-1677324600@helpfulhandscpr.com
SUMMARY:February 25\, 2023 – AUBURN CMG Home Loan Office – Basic Life Support (BLS) CPR AED Course
DESCRIPTION:Online Course \nLearn from home! This online course is provided as part of the American Red Cross Blended Learning program. Participants are required to complete the online training PRIOR to the in person skill based class. Participants must provide proof of completion upon arrival. \nNOTE: A LINK TO YOUR ONLINE COURSE WILL BE PROVIDED UPON REGISTRATION AND SENT TO YOU IN A CONFIRMATION EMAIL AFTER REGISTRATION IS COMPLETE. IF YOU DO NOT FIND YOUR CONFIRMATION EMAIL\, PLEASE CHECK YOUR SPAM OR PROMO FOLDERS. \nI understand that I am signing up for a blended learning class\, which includes an initial online course and it is my responsibility to complete the online course before my scheduled class.
URL:https://helpfulhandscpr.com/event/february-25-2023-auburn-cmg-home-loan-office-basic-life-support-bls-cpr-aed-course/
LOCATION:CMG Office\, 732 Southbridge St (Route 12)\, Unit #3\, Auburn\, MA\, 01501\, United States
CATEGORIES:All Except Schools
ATTACH;FMTTYPE=image/jpeg:https://helpfulhandscpr.com/wp-content/uploads/2022/06/Screenshot-2022-06-08-at-02-35-48-f06673_f2309b1bcffa4bc3bb94194aa0c313a4mv2.webp-WEBP-Image-635-×-635-pixels-—-Scaled-98.jpg
ORGANIZER;CN="Helpful Hands CPR":MAILTO:gary@helpfulhandscpr.com
END:VEVENT
END:VCALENDAR