BEGIN:VCALENDAR
VERSION:2.0
PRODID:-//Helpful Hands CPR - ECPv6.15.18//NONSGML v1.0//EN
CALSCALE:GREGORIAN
METHOD:PUBLISH
X-WR-CALNAME:Helpful Hands CPR
X-ORIGINAL-URL:https://helpfulhandscpr.com
X-WR-CALDESC:Events for Helpful Hands CPR
REFRESH-INTERVAL;VALUE=DURATION:PT1H
X-Robots-Tag:noindex
X-PUBLISHED-TTL:PT1H
BEGIN:VTIMEZONE
TZID:UTC
BEGIN:STANDARD
TZOFFSETFROM:+0000
TZOFFSETTO:+0000
TZNAME:UTC
DTSTART:20220101T000000
END:STANDARD
END:VTIMEZONE
BEGIN:VEVENT
DTSTART;TZID=UTC:20230304T093000
DTEND;TZID=UTC:20230304T113000
DTSTAMP:20260423T001440
CREATED:20230224T205355Z
LAST-MODIFIED:20230224T205355Z
UID:2122-1677922200-1677929400@helpfulhandscpr.com
SUMMARY:March 4\, 2023 – AUBURN CMG Home Loan Office – Basic Life Support (BLS) CPR AED Course
DESCRIPTION:Online Course \nLearn from home! This online course is provided as part of the American Red Cross Blended Learning program. Participants are required to complete the online training PRIOR to the in person skill based class. Participants must provide proof of completion upon arrival. \nNOTE: A LINK TO YOUR ONLINE COURSE WILL BE PROVIDED UPON REGISTRATION AND SENT TO YOU IN A CONFIRMATION EMAIL AFTER REGISTRATION IS COMPLETE. IF YOU DO NOT FIND YOUR CONFIRMATION EMAIL\, PLEASE CHECK YOUR SPAM OR PROMO FOLDERS. \nI understand that I am signing up for a blended learning class\, which includes an initial online course and it is my responsibility to complete the online course before my scheduled class.
URL:https://helpfulhandscpr.com/event/march-4-2023-auburn-cmg-home-loan-office-basic-life-support-bls-cpr-aed-course/
LOCATION:CMG Office\, 732 Southbridge St (Route 12)\, Unit #3\, Auburn\, MA\, 01501\, United States
CATEGORIES:All Except Schools
ATTACH;FMTTYPE=image/jpeg:https://helpfulhandscpr.com/wp-content/uploads/2022/06/Screenshot-2022-06-08-at-02-35-48-f06673_f2309b1bcffa4bc3bb94194aa0c313a4mv2.webp-WEBP-Image-635-×-635-pixels-—-Scaled-98.jpg
ORGANIZER;CN="Helpful Hands CPR":MAILTO:gary@helpfulhandscpr.com
END:VEVENT
BEGIN:VEVENT
DTSTART;TZID=UTC:20230311T093000
DTEND;TZID=UTC:20230311T113000
DTSTAMP:20260423T001440
CREATED:20230301T210439Z
LAST-MODIFIED:20230301T210439Z
UID:2135-1678527000-1678534200@helpfulhandscpr.com
SUMMARY:March 11\, 2023 – AUBURN CMG Home Loan Office – Basic Life Support (BLS) CPR AED Course
DESCRIPTION:Online Course \nLearn from home! This online course is provided as part of the American Red Cross Blended Learning program. Participants are required to complete the online training PRIOR to the in person skill based class. Participants must provide proof of completion upon arrival. \nNOTE: A LINK TO YOUR ONLINE COURSE WILL BE PROVIDED UPON REGISTRATION AND SENT TO YOU IN A CONFIRMATION EMAIL AFTER REGISTRATION IS COMPLETE. IF YOU DO NOT FIND YOUR CONFIRMATION EMAIL\, PLEASE CHECK YOUR SPAM OR PROMO FOLDERS. \nI understand that I am signing up for a blended learning class\, which includes an initial online course and it is my responsibility to complete the online course before my scheduled class.
URL:https://helpfulhandscpr.com/event/march-11-2023-auburn-cmg-home-loan-office-basic-life-support-bls-cpr-aed-course/
LOCATION:CMG Office\, 732 Southbridge St (Route 12)\, Unit #3\, Auburn\, MA\, 01501\, United States
CATEGORIES:All Except Schools
ATTACH;FMTTYPE=image/jpeg:https://helpfulhandscpr.com/wp-content/uploads/2022/06/Screenshot-2022-06-08-at-02-35-48-f06673_f2309b1bcffa4bc3bb94194aa0c313a4mv2.webp-WEBP-Image-635-×-635-pixels-—-Scaled-98.jpg
ORGANIZER;CN="Helpful Hands CPR":MAILTO:gary@helpfulhandscpr.com
END:VEVENT
BEGIN:VEVENT
DTSTART;TZID=UTC:20230318T093000
DTEND;TZID=UTC:20230318T113000
DTSTAMP:20260423T001440
CREATED:20230309T035131Z
LAST-MODIFIED:20230309T035131Z
UID:2164-1679131800-1679139000@helpfulhandscpr.com
SUMMARY:March 18\, 2023 – AUBURN CMG Home Loan Office – Basic Life Support (BLS) CPR AED Course
DESCRIPTION:Online Course \nLearn from home! This online course is provided as part of the American Red Cross Blended Learning program. Participants are required to complete the online training PRIOR to the in person skill based class. Participants must provide proof of completion upon arrival. \nNOTE: A LINK TO YOUR ONLINE COURSE WILL BE PROVIDED UPON REGISTRATION AND SENT TO YOU IN A CONFIRMATION EMAIL AFTER REGISTRATION IS COMPLETE. IF YOU DO NOT FIND YOUR CONFIRMATION EMAIL\, PLEASE CHECK YOUR SPAM OR PROMO FOLDERS. \nI understand that I am signing up for a blended learning class\, which includes an initial online course and it is my responsibility to complete the online course before my scheduled class.
URL:https://helpfulhandscpr.com/event/march-18-2023-auburn-cmg-home-loan-office-basic-life-support-bls-cpr-aed-course/
LOCATION:CMG Office\, 732 Southbridge St (Route 12)\, Unit #3\, Auburn\, MA\, 01501\, United States
CATEGORIES:All Except Schools
ATTACH;FMTTYPE=image/jpeg:https://helpfulhandscpr.com/wp-content/uploads/2022/06/Screenshot-2022-06-08-at-02-35-48-f06673_f2309b1bcffa4bc3bb94194aa0c313a4mv2.webp-WEBP-Image-635-×-635-pixels-—-Scaled-98.jpg
ORGANIZER;CN="Helpful Hands CPR":MAILTO:gary@helpfulhandscpr.com
END:VEVENT
BEGIN:VEVENT
DTSTART;TZID=UTC:20230326T093000
DTEND;TZID=UTC:20230326T113000
DTSTAMP:20260423T001440
CREATED:20230315T015515Z
LAST-MODIFIED:20230315T015515Z
UID:2188-1679823000-1679830200@helpfulhandscpr.com
SUMMARY:March 26\, 2023 – AUBURN CMG Home Loan Office – Basic Life Support (BLS) CPR AED Course
DESCRIPTION:Online Course \nLearn from home! This online course is provided as part of the American Red Cross Blended Learning program. Participants are required to complete the online training PRIOR to the in person skill based class. Participants must provide proof of completion upon arrival. \nNOTE: A LINK TO YOUR ONLINE COURSE WILL BE PROVIDED UPON REGISTRATION AND SENT TO YOU IN A CONFIRMATION EMAIL AFTER REGISTRATION IS COMPLETE. IF YOU DO NOT FIND YOUR CONFIRMATION EMAIL\, PLEASE CHECK YOUR SPAM OR PROMO FOLDERS. \nI understand that I am signing up for a blended learning class\, which includes an initial online course and it is my responsibility to complete the online course before my scheduled class.
URL:https://helpfulhandscpr.com/event/march-26-2023-auburn-cmg-home-loan-office-basic-life-support-bls-cpr-aed-course/
LOCATION:CMG Office\, 732 Southbridge St (Route 12)\, Unit #3\, Auburn\, MA\, 01501\, United States
CATEGORIES:All Except Schools
ATTACH;FMTTYPE=image/jpeg:https://helpfulhandscpr.com/wp-content/uploads/2022/06/Screenshot-2022-06-08-at-02-35-48-f06673_f2309b1bcffa4bc3bb94194aa0c313a4mv2.webp-WEBP-Image-635-×-635-pixels-—-Scaled-98.jpg
ORGANIZER;CN="Helpful Hands CPR":MAILTO:gary@helpfulhandscpr.com
END:VEVENT
END:VCALENDAR