BEGIN:VCALENDAR
VERSION:2.0
PRODID:-//Helpful Hands CPR - ECPv6.15.18//NONSGML v1.0//EN
CALSCALE:GREGORIAN
METHOD:PUBLISH
X-ORIGINAL-URL:https://helpfulhandscpr.com
X-WR-CALDESC:Events for Helpful Hands CPR
REFRESH-INTERVAL;VALUE=DURATION:PT1H
X-Robots-Tag:noindex
X-PUBLISHED-TTL:PT1H
BEGIN:VTIMEZONE
TZID:UTC
BEGIN:STANDARD
TZOFFSETFROM:+0000
TZOFFSETTO:+0000
TZNAME:UTC
DTSTART:20220101T000000
END:STANDARD
END:VTIMEZONE
BEGIN:VEVENT
DTSTART;TZID=UTC:20230909T090000
DTEND;TZID=UTC:20230909T111500
DTSTAMP:20260422T031320
CREATED:20230819T154147Z
LAST-MODIFIED:20230906T215103Z
UID:3312-1694250000-1694258100@helpfulhandscpr.com
SUMMARY:September 9\, 2023 – Newton – Adult and Pediatric First Aid/CPR/AED Course
DESCRIPTION:The 2021 Adult and Pediatric First Aid/CPR/AED blended learning course equips students to recognize and care for a variety of first aid\, breathing\, and cardiac emergencies involving adults\, children and infants. It is designed for students who need a certification that satisfies OSHA\, workplace or other regulatory requirements. \nThis class is taught in a blended learning format and the online portion (accessed via mobile\, desktop or tablet) must be completed prior to attending the Instructor-led skills session. Upon successful completion\, a valid 2 year digital certificate for Adult and Pediatric First Aid/CPR/AED is issued.
URL:https://helpfulhandscpr.com/event/september-9-2023-newton-adult-and-pediatric-first-aid-cpr-aed-course/
LOCATION:Helpful Hands CPR Newton Training Center\, 132 Adams Street\, Newton\, MA\, 02458\, United States
CATEGORIES:All Except Schools,ARC
ATTACH;FMTTYPE=image/png:https://helpfulhandscpr.com/wp-content/uploads/2023/08/Helpful-Hands-CPR-CPR-AED-min.png
ORGANIZER;CN="Helpful Hands CPR":MAILTO:gary@helpfulhandscpr.com
END:VEVENT
BEGIN:VEVENT
DTSTART;TZID=UTC:20230909T090000
DTEND;TZID=UTC:20230909T113000
DTSTAMP:20260422T031320
CREATED:20230819T154432Z
LAST-MODIFIED:20230906T214806Z
UID:3315-1694250000-1694259000@helpfulhandscpr.com
SUMMARY:September 9\, 2023 – AUBURN CMG Home Loan Office – Basic Life Support (BLS) CPR AED Course
DESCRIPTION:Online Course \nLearn from home! This online course is provided as part of the American Red Cross Blended Learning program. Participants are required to complete the online training PRIOR to the in person skill based class. Participants must provide proof of completion upon arrival. \nNOTE: A LINK TO YOUR ONLINE COURSE WILL BE PROVIDED UPON REGISTRATION AND SENT TO YOU IN A CONFIRMATION EMAIL AFTER REGISTRATION IS COMPLETE. IF YOU DO NOT FIND YOUR CONFIRMATION EMAIL\, PLEASE CHECK YOUR SPAM OR PROMO FOLDERS. \nI understand that I am signing up for a blended learning class\, which includes an initial online course and it is my responsibility to complete the online course before my scheduled class.
URL:https://helpfulhandscpr.com/event/september-9-2023-auburn-cmg-home-loan-office-basic-life-support-bls-cpr-aed-course/
LOCATION:CMG Office\, 732 Southbridge St (Route 12)\, Unit #3\, Auburn\, MA\, 01501\, United States
CATEGORIES:All Except Schools,ARC
ATTACH;FMTTYPE=image/png:https://helpfulhandscpr.com/wp-content/uploads/2023/08/Helpful-Hands-CPR-min-basic-life-support.png
ORGANIZER;CN="Helpful Hands CPR":MAILTO:gary@helpfulhandscpr.com
END:VEVENT
BEGIN:VEVENT
DTSTART;TZID=UTC:20230909T113000
DTEND;TZID=UTC:20230909T134500
DTSTAMP:20260422T031320
CREATED:20230819T153509Z
LAST-MODIFIED:20230906T215139Z
UID:3309-1694259000-1694267100@helpfulhandscpr.com
SUMMARY:September 9\, 2023 – Helpful Hands CPR Newton Training Center – Basic Life Support (BLS) CPR AED Course
DESCRIPTION:Online Course \nLearn from home! This online course is provided as part of the American Red Cross Blended Learning program. Participants are required to complete the online training PRIOR to the in person skill based class. Participants must provide proof of completion upon arrival. \nNOTE: A LINK TO YOUR ONLINE COURSE WILL BE PROVIDED UPON REGISTRATION AND SENT TO YOU IN A CONFIRMATION EMAIL AFTER REGISTRATION IS COMPLETE. IF YOU DO NOT FIND YOUR CONFIRMATION EMAIL\, PLEASE CHECK YOUR SPAM OR PROMO FOLDERS. \nI understand that I am signing up for a blended learning class\, which includes an initial online course and it is my responsibility to complete the online course before my scheduled class.
URL:https://helpfulhandscpr.com/event/september-9-2023-helpful-hands-cpr-newton-training-center-basic-life-support-bls-cpr-aed-course/
LOCATION:Helpful Hands CPR Newton Training Center\, 132 Adams Street\, Newton\, MA\, 02458\, United States
CATEGORIES:All Except Schools,ARC
ATTACH;FMTTYPE=image/png:https://helpfulhandscpr.com/wp-content/uploads/2023/08/Helpful-Hands-CPR-CPR-AED-min.png
ORGANIZER;CN="Helpful Hands CPR":MAILTO:gary@helpfulhandscpr.com
END:VEVENT
BEGIN:VEVENT
DTSTART;TZID=UTC:20230912T180000
DTEND;TZID=UTC:20230912T200000
DTSTAMP:20260422T031320
CREATED:20230830T012627Z
LAST-MODIFIED:20230908T202903Z
UID:3410-1694541600-1694548800@helpfulhandscpr.com
SUMMARY:September 12\, 2023 – AUBURN CMG Home Loan Office – Basic Life Support (BLS) CPR AED Course
DESCRIPTION:Online Course \nLearn from home! This online course is provided as part of the American Red Cross Blended Learning program. Participants are required to complete the online training PRIOR to the in person skill based class. Participants must provide proof of completion upon arrival. \nNOTE: A LINK TO YOUR ONLINE COURSE WILL BE PROVIDED UPON REGISTRATION AND SENT TO YOU IN A CONFIRMATION EMAIL AFTER REGISTRATION IS COMPLETE. IF YOU DO NOT FIND YOUR CONFIRMATION EMAIL\, PLEASE CHECK YOUR SPAM OR PROMO FOLDERS. \nI understand that I am signing up for a blended learning class\, which includes an initial online course and it is my responsibility to complete the online course before my scheduled class.
URL:https://helpfulhandscpr.com/event/september-12-2023-auburn-cmg-home-loan-office-basic-life-support-bls-cpr-aed-course/
LOCATION:CMG Office\, 732 Southbridge St (Route 12)\, Unit #3\, Auburn\, MA\, 01501\, United States
CATEGORIES:All Except Schools,ARC
ATTACH;FMTTYPE=image/png:https://helpfulhandscpr.com/wp-content/uploads/2023/08/Helpful-Hands-CPR-CPR-AED-min.png
ORGANIZER;CN="Helpful Hands CPR":MAILTO:gary@helpfulhandscpr.com
END:VEVENT
BEGIN:VEVENT
DTSTART;TZID=UTC:20230916T090000
DTEND;TZID=UTC:20230916T111500
DTSTAMP:20260422T031320
CREATED:20230820T193132Z
LAST-MODIFIED:20230906T215320Z
UID:3324-1694854800-1694862900@helpfulhandscpr.com
SUMMARY:September 16\, 2023 – Newton – Adult and Pediatric First Aid/CPR/AED Course
DESCRIPTION:The 2021 Adult and Pediatric First Aid/CPR/AED blended learning course equips students to recognize and care for a variety of first aid\, breathing\, and cardiac emergencies involving adults\, children and infants. It is designed for students who need a certification that satisfies OSHA\, workplace or other regulatory requirements. \nThis class is taught in a blended learning format and the online portion (accessed via mobile\, desktop or tablet) must be completed prior to attending the Instructor-led skills session. Upon successful completion\, a valid 2 year digital certificate for Adult and Pediatric First Aid/CPR/AED is issued.
URL:https://helpfulhandscpr.com/event/september-16-2023-newton-adult-and-pediatric-first-aid-cpr-aed-course/
LOCATION:Helpful Hands CPR Newton Training Center\, 132 Adams Street\, Newton\, MA\, 02458\, United States
CATEGORIES:All Except Schools,ARC
ATTACH;FMTTYPE=image/png:https://helpfulhandscpr.com/wp-content/uploads/2023/08/Helpful-Hands-CPR-CPR-AED-min.png
ORGANIZER;CN="Helpful Hands CPR":MAILTO:gary@helpfulhandscpr.com
END:VEVENT
BEGIN:VEVENT
DTSTART;TZID=UTC:20230916T090000
DTEND;TZID=UTC:20230916T113000
DTSTAMP:20260422T031320
CREATED:20230901T223437Z
LAST-MODIFIED:20230906T215355Z
UID:3425-1694854800-1694863800@helpfulhandscpr.com
SUMMARY:September 16\, 2023 – AUBURN CMG Home Loan Office – Basic Life Support (BLS) CPR AED Course
DESCRIPTION:Online Course \nLearn from home! This online course is provided as part of the American Red Cross Blended Learning program. Participants are required to complete the online training PRIOR to the in person skill based class. Participants must provide proof of completion upon arrival. \nNOTE: A LINK TO YOUR ONLINE COURSE WILL BE PROVIDED UPON REGISTRATION AND SENT TO YOU IN A CONFIRMATION EMAIL AFTER REGISTRATION IS COMPLETE. IF YOU DO NOT FIND YOUR CONFIRMATION EMAIL\, PLEASE CHECK YOUR SPAM OR PROMO FOLDERS. \nI understand that I am signing up for a blended learning class\, which includes an initial online course and it is my responsibility to complete the online course before my scheduled class.
URL:https://helpfulhandscpr.com/event/september-16-2023-auburn-cmg-home-loan-office-basic-life-support-bls-cpr-aed-course/
LOCATION:CMG Office\, 732 Southbridge St (Route 12)\, Unit #3\, Auburn\, MA\, 01501\, United States
CATEGORIES:All Except Schools,ARC
ATTACH;FMTTYPE=image/png:https://helpfulhandscpr.com/wp-content/uploads/2023/08/Helpful-Hands-CPR-CPR-AED-min.png
ORGANIZER;CN="Helpful Hands CPR":MAILTO:gary@helpfulhandscpr.com
END:VEVENT
BEGIN:VEVENT
DTSTART;TZID=UTC:20230916T113000
DTEND;TZID=UTC:20230916T134500
DTSTAMP:20260422T031320
CREATED:20230820T192719Z
LAST-MODIFIED:20230906T215427Z
UID:3318-1694863800-1694871900@helpfulhandscpr.com
SUMMARY:September 16\, 2023 – Helpful Hands CPR Newton Training Center – Basic Life Support (BLS) CPR AED Course
DESCRIPTION:Online Course \nLearn from home! This online course is provided as part of the American Red Cross Blended Learning program. Participants are required to complete the online training PRIOR to the in person skill based class. Participants must provide proof of completion upon arrival. \nNOTE: A LINK TO YOUR ONLINE COURSE WILL BE PROVIDED UPON REGISTRATION AND SENT TO YOU IN A CONFIRMATION EMAIL AFTER REGISTRATION IS COMPLETE. IF YOU DO NOT FIND YOUR CONFIRMATION EMAIL\, PLEASE CHECK YOUR SPAM OR PROMO FOLDERS. \nI understand that I am signing up for a blended learning class\, which includes an initial online course and it is my responsibility to complete the online course before my scheduled class.
URL:https://helpfulhandscpr.com/event/september-16-2023-helpful-hands-cpr-newton-training-center-basic-life-support-bls-cpr-aed-course/
LOCATION:Helpful Hands CPR Newton Training Center\, 132 Adams Street\, Newton\, MA\, 02458\, United States
CATEGORIES:All Except Schools,ARC
ATTACH;FMTTYPE=image/png:https://helpfulhandscpr.com/wp-content/uploads/2023/08/Helpful-Hands-CPR-CPR-AED-min.png
ORGANIZER;CN="Helpful Hands CPR":MAILTO:gary@helpfulhandscpr.com
END:VEVENT
BEGIN:VEVENT
DTSTART;TZID=UTC:20230923T090000
DTEND;TZID=UTC:20230923T111500
DTSTAMP:20260422T031320
CREATED:20230820T193339Z
LAST-MODIFIED:20230906T215450Z
UID:3327-1695459600-1695467700@helpfulhandscpr.com
SUMMARY:September 23\, 2023 – Newton – Adult and Pediatric First Aid/CPR/AED Course
DESCRIPTION:The 2021 Adult and Pediatric First Aid/CPR/AED blended learning course equips students to recognize and care for a variety of first aid\, breathing\, and cardiac emergencies involving adults\, children and infants. It is designed for students who need a certification that satisfies OSHA\, workplace or other regulatory requirements. \nThis class is taught in a blended learning format and the online portion (accessed via mobile\, desktop or tablet) must be completed prior to attending the Instructor-led skills session. Upon successful completion\, a valid 2 year digital certificate for Adult and Pediatric First Aid/CPR/AED is issued.
URL:https://helpfulhandscpr.com/event/september-23-2023-newton-adult-and-pediatric-first-aid-cpr-aed-course/
LOCATION:Helpful Hands CPR Newton Training Center\, 132 Adams Street\, Newton\, MA\, 02458\, United States
CATEGORIES:All Except Schools,ARC
ATTACH;FMTTYPE=image/png:https://helpfulhandscpr.com/wp-content/uploads/2023/08/Helpful-Hands-CPR-CPR-AED-min.png
ORGANIZER;CN="Helpful Hands CPR":MAILTO:gary@helpfulhandscpr.com
END:VEVENT
BEGIN:VEVENT
DTSTART;TZID=UTC:20230923T113000
DTEND;TZID=UTC:20230923T134500
DTSTAMP:20260422T031320
CREATED:20230820T192915Z
LAST-MODIFIED:20230906T215512Z
UID:3321-1695468600-1695476700@helpfulhandscpr.com
SUMMARY:September 23\, 2023 – Helpful Hands CPR Newton Training Center – Basic Life Support (BLS) CPR AED Course
DESCRIPTION:Online Course \nLearn from home! This online course is provided as part of the American Red Cross Blended Learning program. Participants are required to complete the online training PRIOR to the in person skill based class. Participants must provide proof of completion upon arrival. \nNOTE: A LINK TO YOUR ONLINE COURSE WILL BE PROVIDED UPON REGISTRATION AND SENT TO YOU IN A CONFIRMATION EMAIL AFTER REGISTRATION IS COMPLETE. IF YOU DO NOT FIND YOUR CONFIRMATION EMAIL\, PLEASE CHECK YOUR SPAM OR PROMO FOLDERS. \nI understand that I am signing up for a blended learning class\, which includes an initial online course and it is my responsibility to complete the online course before my scheduled class.
URL:https://helpfulhandscpr.com/event/september-23-2023-helpful-hands-cpr-newton-training-center-basic-life-support-bls-cpr-aed-course/
LOCATION:Helpful Hands CPR Newton Training Center\, 132 Adams Street\, Newton\, MA\, 02458\, United States
CATEGORIES:All Except Schools,ARC
ATTACH;FMTTYPE=image/png:https://helpfulhandscpr.com/wp-content/uploads/2023/08/Helpful-Hands-CPR-CPR-AED-min.png
ORGANIZER;CN="Helpful Hands CPR":MAILTO:gary@helpfulhandscpr.com
END:VEVENT
BEGIN:VEVENT
DTSTART;TZID=UTC:20230926T180000
DTEND;TZID=UTC:20230926T200000
DTSTAMP:20260422T031320
CREATED:20230830T012821Z
LAST-MODIFIED:20230922T033157Z
UID:3413-1695751200-1695758400@helpfulhandscpr.com
SUMMARY:September 26\, 2023 – AUBURN CMG Home Loan Office – Basic Life Support (BLS) CPR AED Course
DESCRIPTION:Online Course \nLearn from home! This online course is provided as part of the American Red Cross Blended Learning program. Participants are required to complete the online training PRIOR to the in person skill based class. Participants must provide proof of completion upon arrival. \nNOTE: A LINK TO YOUR ONLINE COURSE WILL BE PROVIDED UPON REGISTRATION AND SENT TO YOU IN A CONFIRMATION EMAIL AFTER REGISTRATION IS COMPLETE. IF YOU DO NOT FIND YOUR CONFIRMATION EMAIL\, PLEASE CHECK YOUR SPAM OR PROMO FOLDERS. \nI understand that I am signing up for a blended learning class\, which includes an initial online course and it is my responsibility to complete the online course before my scheduled class.
URL:https://helpfulhandscpr.com/event/september-26-2023-auburn-cmg-home-loan-office-basic-life-support-bls-cpr-aed-course/
LOCATION:CMG Office\, 732 Southbridge St (Route 12)\, Unit #3\, Auburn\, MA\, 01501\, United States
CATEGORIES:All Except Schools,ARC
ATTACH;FMTTYPE=image/png:https://helpfulhandscpr.com/wp-content/uploads/2023/08/Helpful-Hands-CPR-CPR-AED-min.png
ORGANIZER;CN="Helpful Hands CPR":MAILTO:gary@helpfulhandscpr.com
END:VEVENT
BEGIN:VEVENT
DTSTART;TZID=UTC:20230930T090000
DTEND;TZID=UTC:20230930T113000
DTSTAMP:20260422T031320
CREATED:20230926T145821Z
LAST-MODIFIED:20230926T145821Z
UID:3646-1696064400-1696073400@helpfulhandscpr.com
SUMMARY:September 30\, 2023 – AUBURN CMG Home Loan Office – Basic Life Support (BLS) CPR AED Course
DESCRIPTION:Online Course \nLearn from home! This online course is provided as part of the American Red Cross Blended Learning program. Participants are required to complete the online training PRIOR to the in person skill based class. Participants must provide proof of completion upon arrival. \nNOTE: A LINK TO YOUR ONLINE COURSE WILL BE PROVIDED UPON REGISTRATION AND SENT TO YOU IN A CONFIRMATION EMAIL AFTER REGISTRATION IS COMPLETE. IF YOU DO NOT FIND YOUR CONFIRMATION EMAIL\, PLEASE CHECK YOUR SPAM OR PROMO FOLDERS. \nI understand that I am signing up for a blended learning class\, which includes an initial online course and it is my responsibility to complete the online course before my scheduled class.
URL:https://helpfulhandscpr.com/event/september-30-2023-auburn-cmg-home-loan-office-basic-life-support-bls-cpr-aed-course/
LOCATION:CMG Office\, 732 Southbridge St (Route 12)\, Unit #3\, Auburn\, MA\, 01501\, United States
CATEGORIES:All Except Schools,ARC
ATTACH;FMTTYPE=image/png:https://helpfulhandscpr.com/wp-content/uploads/2023/08/Helpful-Hands-CPR-CPR-AED-min.png
ORGANIZER;CN="Helpful Hands CPR":MAILTO:gary@helpfulhandscpr.com
END:VEVENT
END:VCALENDAR