BEGIN:VCALENDAR
VERSION:2.0
PRODID:-//Helpful Hands CPR - ECPv6.15.18//NONSGML v1.0//EN
CALSCALE:GREGORIAN
METHOD:PUBLISH
X-ORIGINAL-URL:https://helpfulhandscpr.com
X-WR-CALDESC:Events for Helpful Hands CPR
REFRESH-INTERVAL;VALUE=DURATION:PT1H
X-Robots-Tag:noindex
X-PUBLISHED-TTL:PT1H
BEGIN:VTIMEZONE
TZID:UTC
BEGIN:STANDARD
TZOFFSETFROM:+0000
TZOFFSETTO:+0000
TZNAME:UTC
DTSTART:20230101T000000
END:STANDARD
END:VTIMEZONE
BEGIN:VEVENT
DTSTART;TZID=UTC:20240201T180000
DTEND;TZID=UTC:20240201T200000
DTSTAMP:20260421T194749
CREATED:20240111T024331Z
LAST-MODIFIED:20240111T024331Z
UID:4211-1706810400-1706817600@helpfulhandscpr.com
SUMMARY:February 1\, 2024 – AUBURN CMG Home Loan Office – Basic Life Support (BLS) CPR AED Course
DESCRIPTION:Online Course \nLearn from home! This online course is provided as part of the American Red Cross Blended Learning program. Participants are required to complete the online training PRIOR to the in person skill based class. Participants must provide proof of completion upon arrival. \nNOTE: A LINK TO YOUR ONLINE COURSE WILL BE PROVIDED UPON REGISTRATION AND SENT TO YOU IN A CONFIRMATION EMAIL AFTER REGISTRATION IS COMPLETE. IF YOU DO NOT FIND YOUR CONFIRMATION EMAIL\, PLEASE CHECK YOUR SPAM OR PROMO FOLDERS. \nI understand that I am signing up for a blended learning class\, which includes an initial online course and it is my responsibility to complete the online course before my scheduled class.
URL:https://helpfulhandscpr.com/event/february-1-2024-auburn-cmg-home-loan-office-basic-life-support-bls-cpr-aed-course/
LOCATION:CMG Office\, 732 Southbridge St (Route 12)\, Unit #3\, Auburn\, MA\, 01501\, United States
CATEGORIES:All Except Schools,ARC
ATTACH;FMTTYPE=image/png:https://helpfulhandscpr.com/wp-content/uploads/2023/08/Helpful-Hands-CPR-CPR-AED-min.png
ORGANIZER;CN="Helpful Hands CPR":MAILTO:gary@helpfulhandscpr.com
END:VEVENT
BEGIN:VEVENT
DTSTART;TZID=UTC:20240203T090000
DTEND;TZID=UTC:20240203T113000
DTSTAMP:20260421T194749
CREATED:20240111T024129Z
LAST-MODIFIED:20240111T024129Z
UID:4208-1706950800-1706959800@helpfulhandscpr.com
SUMMARY:February 3\, 2024 – AUBURN CMG Home Loan Office – Basic Life Support (BLS) CPR AED Course
DESCRIPTION:Online Course \nLearn from home! This online course is provided as part of the American Red Cross Blended Learning program. Participants are required to complete the online training PRIOR to the in person skill based class. Participants must provide proof of completion upon arrival. \nNOTE: A LINK TO YOUR ONLINE COURSE WILL BE PROVIDED UPON REGISTRATION AND SENT TO YOU IN A CONFIRMATION EMAIL AFTER REGISTRATION IS COMPLETE. IF YOU DO NOT FIND YOUR CONFIRMATION EMAIL\, PLEASE CHECK YOUR SPAM OR PROMO FOLDERS. \nI understand that I am signing up for a blended learning class\, which includes an initial online course and it is my responsibility to complete the online course before my scheduled class.
URL:https://helpfulhandscpr.com/event/february-3-2024-auburn-cmg-home-loan-office-basic-life-support-bls-cpr-aed-course/
LOCATION:CMG Office\, 732 Southbridge St (Route 12)\, Unit #3\, Auburn\, MA\, 01501\, United States
CATEGORIES:All Except Schools,ARC
ATTACH;FMTTYPE=image/png:https://helpfulhandscpr.com/wp-content/uploads/2023/08/Helpful-Hands-CPR-CPR-AED-min.png
ORGANIZER;CN="Helpful Hands CPR":MAILTO:gary@helpfulhandscpr.com
END:VEVENT
BEGIN:VEVENT
DTSTART;TZID=UTC:20240206T173000
DTEND;TZID=UTC:20240206T193000
DTSTAMP:20260421T194749
CREATED:20240129T215647Z
LAST-MODIFIED:20240129T215647Z
UID:4375-1707240600-1707247800@helpfulhandscpr.com
SUMMARY:February 6\, 2024 – Newton – Adult and Pediatric First Aid/CPR/AED Course
DESCRIPTION:The 2021 Adult and Pediatric First Aid/CPR/AED blended learning course equips students to recognize and care for a variety of first aid\, breathing\, and cardiac emergencies involving adults\, children and infants. It is designed for students who need a certification that satisfies OSHA\, workplace or other regulatory requirements. \nThis class is taught in a blended learning format and the online portion (accessed via mobile\, desktop or tablet) must be completed prior to attending the Instructor-led skills session. Upon successful completion\, a valid 2 year digital certificate for Adult and Pediatric First Aid/CPR/AED is issued.
URL:https://helpfulhandscpr.com/event/february-6-2024-newton-adult-and-pediatric-first-aid-cpr-aed-course/
LOCATION:Helpful Hands CPR Newton Training Center\, 132 Adams Street\, Newton\, MA\, 02458\, United States
CATEGORIES:All Except Schools,ARC
ATTACH;FMTTYPE=image/png:https://helpfulhandscpr.com/wp-content/uploads/2023/08/Helpful-Hands-CPR-CPR-AED-min.png
ORGANIZER;CN="Helpful Hands CPR":MAILTO:gary@helpfulhandscpr.com
END:VEVENT
BEGIN:VEVENT
DTSTART;TZID=UTC:20240221T173000
DTEND;TZID=UTC:20240221T193000
DTSTAMP:20260421T194749
CREATED:20240129T215832Z
LAST-MODIFIED:20240129T215832Z
UID:4378-1708536600-1708543800@helpfulhandscpr.com
SUMMARY:February 21\, 2024 – Newton – Adult and Pediatric First Aid/CPR/AED Course
DESCRIPTION:The 2021 Adult and Pediatric First Aid/CPR/AED blended learning course equips students to recognize and care for a variety of first aid\, breathing\, and cardiac emergencies involving adults\, children and infants. It is designed for students who need a certification that satisfies OSHA\, workplace or other regulatory requirements. \nThis class is taught in a blended learning format and the online portion (accessed via mobile\, desktop or tablet) must be completed prior to attending the Instructor-led skills session. Upon successful completion\, a valid 2 year digital certificate for Adult and Pediatric First Aid/CPR/AED is issued.
URL:https://helpfulhandscpr.com/event/february-21-2024-newton-adult-and-pediatric-first-aid-cpr-aed-course/
LOCATION:Helpful Hands CPR Newton Training Center\, 132 Adams Street\, Newton\, MA\, 02458\, United States
CATEGORIES:All Except Schools,ARC
ATTACH;FMTTYPE=image/png:https://helpfulhandscpr.com/wp-content/uploads/2023/08/Helpful-Hands-CPR-CPR-AED-min.png
ORGANIZER;CN="Helpful Hands CPR":MAILTO:gary@helpfulhandscpr.com
END:VEVENT
BEGIN:VEVENT
DTSTART;TZID=UTC:20240224T090000
DTEND;TZID=UTC:20240224T111500
DTSTAMP:20260421T194749
CREATED:20240129T214812Z
LAST-MODIFIED:20240129T214812Z
UID:4366-1708765200-1708773300@helpfulhandscpr.com
SUMMARY:February 24\, 2024 – Newton – Adult and Pediatric First Aid/CPR/AED Course
DESCRIPTION:The 2021 Adult and Pediatric First Aid/CPR/AED blended learning course equips students to recognize and care for a variety of first aid\, breathing\, and cardiac emergencies involving adults\, children and infants. It is designed for students who need a certification that satisfies OSHA\, workplace or other regulatory requirements. \nThis class is taught in a blended learning format and the online portion (accessed via mobile\, desktop or tablet) must be completed prior to attending the Instructor-led skills session. Upon successful completion\, a valid 2 year digital certificate for Adult and Pediatric First Aid/CPR/AED is issued.
URL:https://helpfulhandscpr.com/event/february-24-2024-newton-adult-and-pediatric-first-aid-cpr-aed-course/
LOCATION:Helpful Hands CPR Newton Training Center\, 132 Adams Street\, Newton\, MA\, 02458\, United States
CATEGORIES:All Except Schools,ARC
ATTACH;FMTTYPE=image/png:https://helpfulhandscpr.com/wp-content/uploads/2023/08/Helpful-Hands-CPR-CPR-AED-min.png
ORGANIZER;CN="Helpful Hands CPR":MAILTO:gary@helpfulhandscpr.com
END:VEVENT
BEGIN:VEVENT
DTSTART;TZID=UTC:20240224T090000
DTEND;TZID=UTC:20240224T113000
DTSTAMP:20260421T194749
CREATED:20240129T210542Z
LAST-MODIFIED:20240129T210542Z
UID:4360-1708765200-1708774200@helpfulhandscpr.com
SUMMARY:February 24\, 2024 – AUBURN CMG Home Loan Office – Basic Life Support (BLS) CPR AED Course
DESCRIPTION:Online Course \nLearn from home! This online course is provided as part of the American Red Cross Blended Learning program. Participants are required to complete the online training PRIOR to the in person skill based class. Participants must provide proof of completion upon arrival. \nNOTE: A LINK TO YOUR ONLINE COURSE WILL BE PROVIDED UPON REGISTRATION AND SENT TO YOU IN A CONFIRMATION EMAIL AFTER REGISTRATION IS COMPLETE. IF YOU DO NOT FIND YOUR CONFIRMATION EMAIL\, PLEASE CHECK YOUR SPAM OR PROMO FOLDERS. \nI understand that I am signing up for a blended learning class\, which includes an initial online course and it is my responsibility to complete the online course before my scheduled class.
URL:https://helpfulhandscpr.com/event/february-24-2024-auburn-cmg-home-loan-office-basic-life-support-bls-cpr-aed-course/
LOCATION:CMG Office\, 732 Southbridge St (Route 12)\, Unit #3\, Auburn\, MA\, 01501\, United States
CATEGORIES:All Except Schools,ARC
ATTACH;FMTTYPE=image/png:https://helpfulhandscpr.com/wp-content/uploads/2023/08/Helpful-Hands-CPR-CPR-AED-min.png
ORGANIZER;CN="Helpful Hands CPR":MAILTO:gary@helpfulhandscpr.com
END:VEVENT
BEGIN:VEVENT
DTSTART;TZID=UTC:20240224T113000
DTEND;TZID=UTC:20240224T134500
DTSTAMP:20260421T194749
CREATED:20240129T214603Z
LAST-MODIFIED:20240129T214603Z
UID:4363-1708774200-1708782300@helpfulhandscpr.com
SUMMARY:February 24\, 2024 – Helpful Hands CPR Newton Training Center – Basic Life Support (BLS) CPR AED Course
DESCRIPTION:Online Course \nLearn from home! This online course is provided as part of the American Red Cross Blended Learning program. Participants are required to complete the online training PRIOR to the in person skill based class. Participants must provide proof of completion upon arrival. \nNOTE: A LINK TO YOUR ONLINE COURSE WILL BE PROVIDED UPON REGISTRATION AND SENT TO YOU IN A CONFIRMATION EMAIL AFTER REGISTRATION IS COMPLETE. IF YOU DO NOT FIND YOUR CONFIRMATION EMAIL\, PLEASE CHECK YOUR SPAM OR PROMO FOLDERS. \nI understand that I am signing up for a blended learning class\, which includes an initial online course and it is my responsibility to complete the online course before my scheduled class.
URL:https://helpfulhandscpr.com/event/february-24-2024-helpful-hands-cpr-newton-training-center-basic-life-support-bls-cpr-aed-course/
LOCATION:Helpful Hands CPR Newton Training Center\, 132 Adams Street\, Newton\, MA\, 02458\, United States
CATEGORIES:All Except Schools,ARC
ATTACH;FMTTYPE=image/png:https://helpfulhandscpr.com/wp-content/uploads/2023/08/Helpful-Hands-CPR-CPR-AED-min.png
ORGANIZER;CN="Helpful Hands CPR":MAILTO:gary@helpfulhandscpr.com
END:VEVENT
BEGIN:VEVENT
DTSTART;TZID=UTC:20240227T173000
DTEND;TZID=UTC:20240227T193000
DTSTAMP:20260421T194749
CREATED:20240129T220010Z
LAST-MODIFIED:20240129T220010Z
UID:4381-1709055000-1709062200@helpfulhandscpr.com
SUMMARY:February 27\, 2024 – Newton – Adult and Pediatric First Aid/CPR/AED Course
DESCRIPTION:The 2021 Adult and Pediatric First Aid/CPR/AED blended learning course equips students to recognize and care for a variety of first aid\, breathing\, and cardiac emergencies involving adults\, children and infants. It is designed for students who need a certification that satisfies OSHA\, workplace or other regulatory requirements. \nThis class is taught in a blended learning format and the online portion (accessed via mobile\, desktop or tablet) must be completed prior to attending the Instructor-led skills session. Upon successful completion\, a valid 2 year digital certificate for Adult and Pediatric First Aid/CPR/AED is issued.
URL:https://helpfulhandscpr.com/event/february-27-2024-newton-adult-and-pediatric-first-aid-cpr-aed-course/
LOCATION:Helpful Hands CPR Newton Training Center\, 132 Adams Street\, Newton\, MA\, 02458\, United States
CATEGORIES:All Except Schools,ARC
ATTACH;FMTTYPE=image/png:https://helpfulhandscpr.com/wp-content/uploads/2023/08/Helpful-Hands-CPR-CPR-AED-min.png
ORGANIZER;CN="Helpful Hands CPR":MAILTO:gary@helpfulhandscpr.com
END:VEVENT
END:VCALENDAR