BEGIN:VCALENDAR
VERSION:2.0
PRODID:-//Helpful Hands CPR - ECPv6.15.18//NONSGML v1.0//EN
CALSCALE:GREGORIAN
METHOD:PUBLISH
X-WR-CALNAME:Helpful Hands CPR
X-ORIGINAL-URL:https://helpfulhandscpr.com
X-WR-CALDESC:Events for Helpful Hands CPR
REFRESH-INTERVAL;VALUE=DURATION:PT1H
X-Robots-Tag:noindex
X-PUBLISHED-TTL:PT1H
BEGIN:VTIMEZONE
TZID:America/New_York
BEGIN:DAYLIGHT
TZOFFSETFROM:-0500
TZOFFSETTO:-0400
TZNAME:EDT
DTSTART:20230312T070000
END:DAYLIGHT
BEGIN:STANDARD
TZOFFSETFROM:-0400
TZOFFSETTO:-0500
TZNAME:EST
DTSTART:20231105T060000
END:STANDARD
BEGIN:DAYLIGHT
TZOFFSETFROM:-0500
TZOFFSETTO:-0400
TZNAME:EDT
DTSTART:20240310T070000
END:DAYLIGHT
BEGIN:STANDARD
TZOFFSETFROM:-0400
TZOFFSETTO:-0500
TZNAME:EST
DTSTART:20241103T060000
END:STANDARD
BEGIN:DAYLIGHT
TZOFFSETFROM:-0500
TZOFFSETTO:-0400
TZNAME:EDT
DTSTART:20250309T070000
END:DAYLIGHT
BEGIN:STANDARD
TZOFFSETFROM:-0400
TZOFFSETTO:-0500
TZNAME:EST
DTSTART:20251102T060000
END:STANDARD
END:VTIMEZONE
BEGIN:VEVENT
DTSTART;TZID=America/New_York:20240406T090000
DTEND;TZID=America/New_York:20240406T111500
DTSTAMP:20260421T165747
CREATED:20240321T200114Z
LAST-MODIFIED:20240404T144741Z
UID:4674-1712394000-1712402100@helpfulhandscpr.com
SUMMARY:April 6\, 2024 – Newton – Adult and Pediatric First Aid/CPR/AED Course
DESCRIPTION:The 2021 Adult and Pediatric First Aid/CPR/AED blended learning course equips students to recognize and care for a variety of first aid\, breathing\, and cardiac emergencies involving adults\, children and infants. It is designed for students who need a certification that satisfies OSHA\, workplace or other regulatory requirements. \nThis class is taught in a blended learning format and the online portion (accessed via mobile\, desktop or tablet) must be completed prior to attending the Instructor-led skills session. Upon successful completion\, a valid 2 year digital certificate for Adult and Pediatric First Aid/CPR/AED is issued.
URL:https://helpfulhandscpr.com/event/april-6-2024-newton-adult-and-pediatric-first-aid-cpr-aed-course/
LOCATION:Helpful Hands CPR Newton Training Center\, 132 Adams Street\, Newton\, MA\, 02458\, United States
CATEGORIES:All Except Schools,ARC
ATTACH;FMTTYPE=image/png:https://helpfulhandscpr.com/wp-content/uploads/2023/08/Helpful-Hands-CPR-CPR-AED-min.png
ORGANIZER;CN="Helpful Hands CPR":MAILTO:gary@helpfulhandscpr.com
END:VEVENT
BEGIN:VEVENT
DTSTART;TZID=America/New_York:20240406T113000
DTEND;TZID=America/New_York:20240406T134500
DTSTAMP:20260421T165747
CREATED:20240321T200317Z
LAST-MODIFIED:20240321T200854Z
UID:4677-1712403000-1712411100@helpfulhandscpr.com
SUMMARY:April 6\, 2024 – Helpful Hands CPR Newton Training Center – Basic Life Support (BLS) CPR AED Course
DESCRIPTION:Online Course \nLearn from home! This online course is provided as part of the American Red Cross Blended Learning program. Participants are required to complete the online training PRIOR to the in person skill based class. Participants must provide proof of completion upon arrival. \nNOTE: A LINK TO YOUR ONLINE COURSE WILL BE PROVIDED UPON REGISTRATION AND SENT TO YOU IN A CONFIRMATION EMAIL AFTER REGISTRATION IS COMPLETE. IF YOU DO NOT FIND YOUR CONFIRMATION EMAIL\, PLEASE CHECK YOUR SPAM OR PROMO FOLDERS. \nI understand that I am signing up for a blended learning class\, which includes an initial online course and it is my responsibility to complete the online course before my scheduled class.
URL:https://helpfulhandscpr.com/event/april-6-2024-helpful-hands-cpr-newton-training-center-basic-life-support-bls-cpr-aed-course/
LOCATION:Helpful Hands CPR Newton Training Center\, 132 Adams Street\, Newton\, MA\, 02458\, United States
CATEGORIES:All Except Schools,ARC
ATTACH;FMTTYPE=image/png:https://helpfulhandscpr.com/wp-content/uploads/2023/08/Helpful-Hands-CPR-CPR-AED-min.png
ORGANIZER;CN="Helpful Hands CPR":MAILTO:gary@helpfulhandscpr.com
END:VEVENT
BEGIN:VEVENT
DTSTART;TZID=America/New_York:20240418T173000
DTEND;TZID=America/New_York:20240418T193000
DTSTAMP:20260421T165747
CREATED:20240403T160430Z
LAST-MODIFIED:20240403T160430Z
UID:4730-1713461400-1713468600@helpfulhandscpr.com
SUMMARY:April 18\, 2024 – Newton – Adult and Pediatric First Aid/CPR/AED Course
DESCRIPTION:The 2021 Adult and Pediatric First Aid/CPR/AED blended learning course equips students to recognize and care for a variety of first aid\, breathing\, and cardiac emergencies involving adults\, children and infants. It is designed for students who need a certification that satisfies OSHA\, workplace or other regulatory requirements. \nThis class is taught in a blended learning format and the online portion (accessed via mobile\, desktop or tablet) must be completed prior to attending the Instructor-led skills session. Upon successful completion\, a valid 2 year digital certificate for Adult and Pediatric First Aid/CPR/AED is issued.
URL:https://helpfulhandscpr.com/event/april-18-2024-newton-adult-and-pediatric-first-aid-cpr-aed-course/
LOCATION:Helpful Hands CPR Newton Training Center\, 132 Adams Street\, Newton\, MA\, 02458\, United States
CATEGORIES:All Except Schools,ARC
ATTACH;FMTTYPE=image/png:https://helpfulhandscpr.com/wp-content/uploads/2023/08/Helpful-Hands-CPR-CPR-AED-min.png
ORGANIZER;CN="Helpful Hands CPR":MAILTO:gary@helpfulhandscpr.com
END:VEVENT
BEGIN:VEVENT
DTSTART;TZID=America/New_York:20240420T090000
DTEND;TZID=America/New_York:20240420T111500
DTSTAMP:20260421T165747
CREATED:20240322T121857Z
LAST-MODIFIED:20240322T121857Z
UID:4684-1713603600-1713611700@helpfulhandscpr.com
SUMMARY:April 20\, 2024 – Newton – Adult and Pediatric First Aid/CPR/AED Course
DESCRIPTION:The 2021 Adult and Pediatric First Aid/CPR/AED blended learning course equips students to recognize and care for a variety of first aid\, breathing\, and cardiac emergencies involving adults\, children and infants. It is designed for students who need a certification that satisfies OSHA\, workplace or other regulatory requirements. \nThis class is taught in a blended learning format and the online portion (accessed via mobile\, desktop or tablet) must be completed prior to attending the Instructor-led skills session. Upon successful completion\, a valid 2 year digital certificate for Adult and Pediatric First Aid/CPR/AED is issued.
URL:https://helpfulhandscpr.com/event/april-20-2024-newton-adult-and-pediatric-first-aid-cpr-aed-course/
LOCATION:Helpful Hands CPR Newton Training Center\, 132 Adams Street\, Newton\, MA\, 02458\, United States
CATEGORIES:All Except Schools,ARC
ATTACH;FMTTYPE=image/png:https://helpfulhandscpr.com/wp-content/uploads/2023/08/Helpful-Hands-CPR-CPR-AED-min.png
ORGANIZER;CN="Helpful Hands CPR":MAILTO:gary@helpfulhandscpr.com
END:VEVENT
BEGIN:VEVENT
DTSTART;TZID=America/New_York:20240420T113000
DTEND;TZID=America/New_York:20240420T134500
DTSTAMP:20260421T165747
CREATED:20240322T122037Z
LAST-MODIFIED:20240322T122037Z
UID:4687-1713612600-1713620700@helpfulhandscpr.com
SUMMARY:April 20\, 2024 – Helpful Hands CPR Newton Training Center – Basic Life Support (BLS) CPR AED Course
DESCRIPTION:Online Course \nLearn from home! This online course is provided as part of the American Red Cross Blended Learning program. Participants are required to complete the online training PRIOR to the in person skill based class. Participants must provide proof of completion upon arrival. \nNOTE: A LINK TO YOUR ONLINE COURSE WILL BE PROVIDED UPON REGISTRATION AND SENT TO YOU IN A CONFIRMATION EMAIL AFTER REGISTRATION IS COMPLETE. IF YOU DO NOT FIND YOUR CONFIRMATION EMAIL\, PLEASE CHECK YOUR SPAM OR PROMO FOLDERS. \nI understand that I am signing up for a blended learning class\, which includes an initial online course and it is my responsibility to complete the online course before my scheduled class.
URL:https://helpfulhandscpr.com/event/april-20-2024-helpful-hands-cpr-newton-training-center-basic-life-support-bls-cpr-aed-course/
LOCATION:Helpful Hands CPR Newton Training Center\, 132 Adams Street\, Newton\, MA\, 02458\, United States
CATEGORIES:All Except Schools,ARC
ATTACH;FMTTYPE=image/png:https://helpfulhandscpr.com/wp-content/uploads/2023/08/Helpful-Hands-CPR-CPR-AED-min.png
ORGANIZER;CN="Helpful Hands CPR":MAILTO:gary@helpfulhandscpr.com
END:VEVENT
BEGIN:VEVENT
DTSTART;TZID=America/New_York:20240424T173000
DTEND;TZID=America/New_York:20240424T193000
DTSTAMP:20260421T165747
CREATED:20240403T160617Z
LAST-MODIFIED:20240403T160617Z
UID:4733-1713979800-1713987000@helpfulhandscpr.com
SUMMARY:April 24\, 2024 – Helpful Hands CPR Newton Training Center – Basic Life Support (BLS) CPR AED Course
DESCRIPTION:Online Course \nLearn from home! This online course is provided as part of the American Red Cross Blended Learning program. Participants are required to complete the online training PRIOR to the in person skill based class. Participants must provide proof of completion upon arrival. \nNOTE: A LINK TO YOUR ONLINE COURSE WILL BE PROVIDED UPON REGISTRATION AND SENT TO YOU IN A CONFIRMATION EMAIL AFTER REGISTRATION IS COMPLETE. IF YOU DO NOT FIND YOUR CONFIRMATION EMAIL\, PLEASE CHECK YOUR SPAM OR PROMO FOLDERS. \nI understand that I am signing up for a blended learning class\, which includes an initial online course and it is my responsibility to complete the online course before my scheduled class.
URL:https://helpfulhandscpr.com/event/april-24-2024-helpful-hands-cpr-newton-training-center-basic-life-support-bls-cpr-aed-course/
LOCATION:Helpful Hands CPR Newton Training Center\, 132 Adams Street\, Newton\, MA\, 02458\, United States
CATEGORIES:All Except Schools,ARC
ATTACH;FMTTYPE=image/png:https://helpfulhandscpr.com/wp-content/uploads/2023/08/Helpful-Hands-CPR-CPR-AED-min.png
ORGANIZER;CN="Helpful Hands CPR":MAILTO:gary@helpfulhandscpr.com
END:VEVENT
END:VCALENDAR