BEGIN:VCALENDAR
VERSION:2.0
PRODID:-//Helpful Hands CPR - ECPv6.15.18//NONSGML v1.0//EN
CALSCALE:GREGORIAN
METHOD:PUBLISH
X-WR-CALNAME:Helpful Hands CPR
X-ORIGINAL-URL:https://helpfulhandscpr.com
X-WR-CALDESC:Events for Helpful Hands CPR
REFRESH-INTERVAL;VALUE=DURATION:PT1H
X-Robots-Tag:noindex
X-PUBLISHED-TTL:PT1H
BEGIN:VTIMEZONE
TZID:America/New_York
BEGIN:DAYLIGHT
TZOFFSETFROM:-0500
TZOFFSETTO:-0400
TZNAME:EDT
DTSTART:20230312T070000
END:DAYLIGHT
BEGIN:STANDARD
TZOFFSETFROM:-0400
TZOFFSETTO:-0500
TZNAME:EST
DTSTART:20231105T060000
END:STANDARD
BEGIN:DAYLIGHT
TZOFFSETFROM:-0500
TZOFFSETTO:-0400
TZNAME:EDT
DTSTART:20240310T070000
END:DAYLIGHT
BEGIN:STANDARD
TZOFFSETFROM:-0400
TZOFFSETTO:-0500
TZNAME:EST
DTSTART:20241103T060000
END:STANDARD
BEGIN:DAYLIGHT
TZOFFSETFROM:-0500
TZOFFSETTO:-0400
TZNAME:EDT
DTSTART:20250309T070000
END:DAYLIGHT
BEGIN:STANDARD
TZOFFSETFROM:-0400
TZOFFSETTO:-0500
TZNAME:EST
DTSTART:20251102T060000
END:STANDARD
END:VTIMEZONE
BEGIN:VEVENT
DTSTART;TZID=America/New_York:20240702T180000
DTEND;TZID=America/New_York:20240702T200000
DTSTAMP:20260421T123308
CREATED:20240613T152938Z
LAST-MODIFIED:20240624T195212Z
UID:5141-1719943200-1719950400@helpfulhandscpr.com
SUMMARY:July 2\, 2024– AUBURN Pakachoag Center – Basic Life Support (BLS) CPR AED Course
DESCRIPTION:Online Course \nLearn from home! This online course is provided as part of the American Red Cross Blended Learning program. Participants are required to complete the online training PRIOR to the in person skill based class. Participants must provide proof of completion upon arrival. \nNOTE: A LINK TO YOUR ONLINE COURSE WILL BE PROVIDED UPON REGISTRATION AND SENT TO YOU IN A CONFIRMATION EMAIL AFTER REGISTRATION IS COMPLETE. IF YOU DO NOT FIND YOUR CONFIRMATION EMAIL\, PLEASE CHECK YOUR SPAM OR PROMO FOLDERS. \nI understand that I am signing up for a blended learning class\, which includes an initial online course and it is my responsibility to complete the online course before my scheduled class.
URL:https://helpfulhandscpr.com/event/july-2-2024-auburn-pakachoag-center-basic-life-support-bls-cpr-aed-course/
LOCATION:Pakachoag Center\, 203 Pakachoag St\, Auburn\, MA\, 01501\, United States
CATEGORIES:All Except Schools,ARC
ATTACH;FMTTYPE=image/png:https://helpfulhandscpr.com/wp-content/uploads/2023/08/Helpful-Hands-CPR-CPR-AED-min.png
ORGANIZER;CN="Helpful Hands CPR":MAILTO:gary@helpfulhandscpr.com
END:VEVENT
BEGIN:VEVENT
DTSTART;TZID=America/New_York:20240713T090000
DTEND;TZID=America/New_York:20240713T110000
DTSTAMP:20260421T123308
CREATED:20240613T153632Z
LAST-MODIFIED:20240627T004901Z
UID:5143-1720861200-1720868400@helpfulhandscpr.com
SUMMARY:July 13\, 2024 – AUBURN Pakachoag Center – Basic Life Support (BLS) CPR AED Course
DESCRIPTION:Online Course \nLearn from home! This online course is provided as part of the American Red Cross Blended Learning program. Participants are required to complete the online training PRIOR to the in person skill based class. Participants must provide proof of completion upon arrival. \nNOTE: A LINK TO YOUR ONLINE COURSE WILL BE PROVIDED UPON REGISTRATION AND SENT TO YOU IN A CONFIRMATION EMAIL AFTER REGISTRATION IS COMPLETE. IF YOU DO NOT FIND YOUR CONFIRMATION EMAIL\, PLEASE CHECK YOUR SPAM OR PROMO FOLDERS. \nI understand that I am signing up for a blended learning class\, which includes an initial online course and it is my responsibility to complete the online course before my scheduled class.
URL:https://helpfulhandscpr.com/event/july-13-2024-auburn-pakachoag-center-basic-life-support-bls-cpr-aed-course/
LOCATION:Pakachoag Center\, 203 Pakachoag St\, Auburn\, MA\, 01501\, United States
CATEGORIES:All Except Schools,ARC
ATTACH;FMTTYPE=image/png:https://helpfulhandscpr.com/wp-content/uploads/2023/08/Helpful-Hands-CPR-CPR-AED-min.png
ORGANIZER;CN="Helpful Hands CPR":MAILTO:gary@helpfulhandscpr.com
END:VEVENT
BEGIN:VEVENT
DTSTART;TZID=America/New_York:20240713T090000
DTEND;TZID=America/New_York:20240713T111500
DTSTAMP:20260421T123308
CREATED:20240625T172556Z
LAST-MODIFIED:20240625T172556Z
UID:5213-1720861200-1720869300@helpfulhandscpr.com
SUMMARY:July 13\, 2024 – Ludlow\, VT – Adult and Pediatric First Aid/CPR/AED Course
DESCRIPTION:The 2021 Adult and Pediatric First Aid/CPR/AED blended learning course equips students to recognize and care for a variety of first aid\, breathing\, and cardiac emergencies involving adults\, children and infants. It is designed for students who need a certification that satisfies OSHA\, workplace or other regulatory requirements. \nThis class is taught in a blended learning format and the online portion (accessed via mobile\, desktop or tablet) must be completed prior to attending the Instructor-led skills session. Upon successful completion\, a valid 2 year digital certificate for Adult and Pediatric First Aid/CPR/AED is issued.
URL:https://helpfulhandscpr.com/event/july-13-2024-ludlow-vt-adult-and-pediatric-first-aid-cpr-aed-course/
LOCATION:Helpful Hands Training Center Ludlow\, VT Community Center (Red Room)\, 37 Main St. (behind army tank)\, Ludlow\, VT 05149\, VT\, 05149\, United States
CATEGORIES:All Except Schools,ARC
ATTACH;FMTTYPE=image/png:https://helpfulhandscpr.com/wp-content/uploads/2023/08/Helpful-Hands-CPR-CPR-AED-min.png
ORGANIZER;CN="Helpful Hands CPR":MAILTO:gary@helpfulhandscpr.com
END:VEVENT
BEGIN:VEVENT
DTSTART;TZID=America/New_York:20240720T090000
DTEND;TZID=America/New_York:20240720T110000
DTSTAMP:20260421T123308
CREATED:20240625T162340Z
LAST-MODIFIED:20240625T162340Z
UID:5189-1721466000-1721473200@helpfulhandscpr.com
SUMMARY:July 20\, 2024 – AUBURN Pakachoag Center – Basic Life Support (BLS) CPR AED Course
DESCRIPTION:Online Course \nLearn from home! This online course is provided as part of the American Red Cross Blended Learning program. Participants are required to complete the online training PRIOR to the in person skill based class. Participants must provide proof of completion upon arrival. \nNOTE: A LINK TO YOUR ONLINE COURSE WILL BE PROVIDED UPON REGISTRATION AND SENT TO YOU IN A CONFIRMATION EMAIL AFTER REGISTRATION IS COMPLETE. IF YOU DO NOT FIND YOUR CONFIRMATION EMAIL\, PLEASE CHECK YOUR SPAM OR PROMO FOLDERS. \nI understand that I am signing up for a blended learning class\, which includes an initial online course and it is my responsibility to complete the online course before my scheduled class.
URL:https://helpfulhandscpr.com/event/july-20-2024-auburn-pakachoag-center-basic-life-support-bls-cpr-aed-course/
LOCATION:Pakachoag Center\, 203 Pakachoag St\, Auburn\, MA\, 01501\, United States
CATEGORIES:All Except Schools,ARC
ATTACH;FMTTYPE=image/png:https://helpfulhandscpr.com/wp-content/uploads/2023/08/Helpful-Hands-CPR-CPR-AED-min.png
ORGANIZER;CN="Helpful Hands CPR":MAILTO:gary@helpfulhandscpr.com
END:VEVENT
BEGIN:VEVENT
DTSTART;TZID=America/New_York:20240723T180000
DTEND;TZID=America/New_York:20240723T200000
DTSTAMP:20260421T123308
CREATED:20240625T162735Z
LAST-MODIFIED:20240723T193621Z
UID:5195-1721757600-1721764800@helpfulhandscpr.com
SUMMARY:July 23\, 2024– AUBURN Pakachoag Center – Basic Life Support (BLS) CPR AED Course
DESCRIPTION:Online Course \nLearn from home! This online course is provided as part of the American Red Cross Blended Learning program. Participants are required to complete the online training PRIOR to the in person skill based class. Participants must provide proof of completion upon arrival. \nNOTE: A LINK TO YOUR ONLINE COURSE WILL BE PROVIDED UPON REGISTRATION AND SENT TO YOU IN A CONFIRMATION EMAIL AFTER REGISTRATION IS COMPLETE. IF YOU DO NOT FIND YOUR CONFIRMATION EMAIL\, PLEASE CHECK YOUR SPAM OR PROMO FOLDERS. \nI understand that I am signing up for a blended learning class\, which includes an initial online course and it is my responsibility to complete the online course before my scheduled class.
URL:https://helpfulhandscpr.com/event/july-23-2024-auburn-pakachoag-center-basic-life-support-bls-cpr-aed-course/
LOCATION:Pakachoag Center\, 203 Pakachoag St\, Auburn\, MA\, 01501\, United States
CATEGORIES:All Except Schools,ARC
ATTACH;FMTTYPE=image/png:https://helpfulhandscpr.com/wp-content/uploads/2023/08/Helpful-Hands-CPR-CPR-AED-min.png
ORGANIZER;CN="Helpful Hands CPR":MAILTO:gary@helpfulhandscpr.com
END:VEVENT
BEGIN:VEVENT
DTSTART;TZID=America/New_York:20240727T090000
DTEND;TZID=America/New_York:20240727T110000
DTSTAMP:20260421T123308
CREATED:20240625T162524Z
LAST-MODIFIED:20240625T162524Z
UID:5192-1722070800-1722078000@helpfulhandscpr.com
SUMMARY:July 27\, 2024 – AUBURN Pakachoag Center – Basic Life Support (BLS) CPR AED Course
DESCRIPTION:Online Course \nLearn from home! This online course is provided as part of the American Red Cross Blended Learning program. Participants are required to complete the online training PRIOR to the in person skill based class. Participants must provide proof of completion upon arrival. \nNOTE: A LINK TO YOUR ONLINE COURSE WILL BE PROVIDED UPON REGISTRATION AND SENT TO YOU IN A CONFIRMATION EMAIL AFTER REGISTRATION IS COMPLETE. IF YOU DO NOT FIND YOUR CONFIRMATION EMAIL\, PLEASE CHECK YOUR SPAM OR PROMO FOLDERS. \nI understand that I am signing up for a blended learning class\, which includes an initial online course and it is my responsibility to complete the online course before my scheduled class.
URL:https://helpfulhandscpr.com/event/july-27-2024-auburn-pakachoag-center-basic-life-support-bls-cpr-aed-course/
LOCATION:Pakachoag Center\, 203 Pakachoag St\, Auburn\, MA\, 01501\, United States
CATEGORIES:All Except Schools,ARC
ATTACH;FMTTYPE=image/png:https://helpfulhandscpr.com/wp-content/uploads/2023/08/Helpful-Hands-CPR-CPR-AED-min.png
ORGANIZER;CN="Helpful Hands CPR":MAILTO:gary@helpfulhandscpr.com
END:VEVENT
BEGIN:VEVENT
DTSTART;TZID=America/New_York:20240727T090000
DTEND;TZID=America/New_York:20240727T111500
DTSTAMP:20260421T123308
CREATED:20240625T172808Z
LAST-MODIFIED:20240625T172808Z
UID:5216-1722070800-1722078900@helpfulhandscpr.com
SUMMARY:July 27\, 2024 – Ludlow\, VT – ARC Adult and Pediatric First Aid/CPR/AED Course
DESCRIPTION:The 2021 Adult and Pediatric First Aid/CPR/AED blended learning course equips students to recognize and care for a variety of first aid\, breathing\, and cardiac emergencies involving adults\, children and infants. It is designed for students who need a certification that satisfies OSHA\, workplace or other regulatory requirements. \nThis class is taught in a blended learning format and the online portion (accessed via mobile\, desktop or tablet) must be completed prior to attending the Instructor-led skills session. Upon successful completion\, a valid 2 year digital certificate for Adult and Pediatric First Aid/CPR/AED is issued.
URL:https://helpfulhandscpr.com/event/july-27-2024-ludlow-vt-arc-adult-and-pediatric-first-aid-cpr-aed-course/
LOCATION:Helpful Hands Training Center Ludlow\, VT Community Center (Red Room)\, 37 Main St. (behind army tank)\, Ludlow\, VT 05149\, VT\, 05149\, United States
CATEGORIES:All Except Schools,ARC
ATTACH;FMTTYPE=image/png:https://helpfulhandscpr.com/wp-content/uploads/2023/08/Helpful-Hands-CPR-CPR-AED-min.png
ORGANIZER;CN="Helpful Hands CPR":MAILTO:gary@helpfulhandscpr.com
END:VEVENT
END:VCALENDAR