BEGIN:VCALENDAR
VERSION:2.0
PRODID:-//Helpful Hands CPR - ECPv6.15.18//NONSGML v1.0//EN
CALSCALE:GREGORIAN
METHOD:PUBLISH
X-ORIGINAL-URL:https://helpfulhandscpr.com
X-WR-CALDESC:Events for Helpful Hands CPR
REFRESH-INTERVAL;VALUE=DURATION:PT1H
X-Robots-Tag:noindex
X-PUBLISHED-TTL:PT1H
BEGIN:VTIMEZONE
TZID:America/New_York
BEGIN:DAYLIGHT
TZOFFSETFROM:-0500
TZOFFSETTO:-0400
TZNAME:EDT
DTSTART:20230312T070000
END:DAYLIGHT
BEGIN:STANDARD
TZOFFSETFROM:-0400
TZOFFSETTO:-0500
TZNAME:EST
DTSTART:20231105T060000
END:STANDARD
BEGIN:DAYLIGHT
TZOFFSETFROM:-0500
TZOFFSETTO:-0400
TZNAME:EDT
DTSTART:20240310T070000
END:DAYLIGHT
BEGIN:STANDARD
TZOFFSETFROM:-0400
TZOFFSETTO:-0500
TZNAME:EST
DTSTART:20241103T060000
END:STANDARD
BEGIN:DAYLIGHT
TZOFFSETFROM:-0500
TZOFFSETTO:-0400
TZNAME:EDT
DTSTART:20250309T070000
END:DAYLIGHT
BEGIN:STANDARD
TZOFFSETFROM:-0400
TZOFFSETTO:-0500
TZNAME:EST
DTSTART:20251102T060000
END:STANDARD
END:VTIMEZONE
BEGIN:VEVENT
DTSTART;TZID=America/New_York:20240801T180000
DTEND;TZID=America/New_York:20240801T200000
DTSTAMP:20260421T111047
CREATED:20240626T133254Z
LAST-MODIFIED:20240801T013128Z
UID:5234-1722535200-1722542400@helpfulhandscpr.com
SUMMARY:August 1\, 2024– AUBURN Pakachoag Center – Basic Life Support (BLS) CPR AED Course
DESCRIPTION:Online Course \nLearn from home! This online course is provided as part of the American Red Cross Blended Learning program. Participants are required to complete the online training PRIOR to the in person skill based class. Participants must provide proof of completion upon arrival. \nNOTE: A LINK TO YOUR ONLINE COURSE WILL BE PROVIDED UPON REGISTRATION AND SENT TO YOU IN A CONFIRMATION EMAIL AFTER REGISTRATION IS COMPLETE. IF YOU DO NOT FIND YOUR CONFIRMATION EMAIL\, PLEASE CHECK YOUR SPAM OR PROMO FOLDERS. \nI understand that I am signing up for a blended learning class\, which includes an initial online course and it is my responsibility to complete the online course before my scheduled class.
URL:https://helpfulhandscpr.com/event/august-1-2024-auburn-pakachoag-center-basic-life-support-bls-cpr-aed-course/
LOCATION:Pakachoag Center\, 203 Pakachoag St\, Auburn\, MA\, 01501\, United States
CATEGORIES:All Except Schools,ARC
ATTACH;FMTTYPE=image/png:https://helpfulhandscpr.com/wp-content/uploads/2023/08/Helpful-Hands-CPR-CPR-AED-min.png
ORGANIZER;CN="Helpful Hands CPR":MAILTO:gary@helpfulhandscpr.com
END:VEVENT
BEGIN:VEVENT
DTSTART;TZID=America/New_York:20240803T090000
DTEND;TZID=America/New_York:20240803T110000
DTSTAMP:20260421T111047
CREATED:20240626T135127Z
LAST-MODIFIED:20240626T135127Z
UID:5246-1722675600-1722682800@helpfulhandscpr.com
SUMMARY:August 3\, 2024– AUBURN Pakachoag Center – Basic Life Support (BLS) CPR AED Course
DESCRIPTION:Online Course \nLearn from home! This online course is provided as part of the American Red Cross Blended Learning program. Participants are required to complete the online training PRIOR to the in person skill based class. Participants must provide proof of completion upon arrival. \nNOTE: A LINK TO YOUR ONLINE COURSE WILL BE PROVIDED UPON REGISTRATION AND SENT TO YOU IN A CONFIRMATION EMAIL AFTER REGISTRATION IS COMPLETE. IF YOU DO NOT FIND YOUR CONFIRMATION EMAIL\, PLEASE CHECK YOUR SPAM OR PROMO FOLDERS. \nI understand that I am signing up for a blended learning class\, which includes an initial online course and it is my responsibility to complete the online course before my scheduled class.
URL:https://helpfulhandscpr.com/event/august-3-2024-auburn-pakachoag-center-basic-life-support-bls-cpr-aed-course/
LOCATION:Pakachoag Center\, 203 Pakachoag St\, Auburn\, MA\, 01501\, United States
CATEGORIES:All Except Schools,ARC
ATTACH;FMTTYPE=image/png:https://helpfulhandscpr.com/wp-content/uploads/2023/08/Helpful-Hands-CPR-CPR-AED-min.png
ORGANIZER;CN="Helpful Hands CPR":MAILTO:gary@helpfulhandscpr.com
END:VEVENT
BEGIN:VEVENT
DTSTART;TZID=America/New_York:20240806T180000
DTEND;TZID=America/New_York:20240806T200000
DTSTAMP:20260421T111047
CREATED:20240626T133625Z
LAST-MODIFIED:20240626T133625Z
UID:5237-1722967200-1722974400@helpfulhandscpr.com
SUMMARY:August 6\, 2024– AUBURN Pakachoag Center – Basic Life Support (BLS) CPR AED Course
DESCRIPTION:Online Course \nLearn from home! This online course is provided as part of the American Red Cross Blended Learning program. Participants are required to complete the online training PRIOR to the in person skill based class. Participants must provide proof of completion upon arrival. \nNOTE: A LINK TO YOUR ONLINE COURSE WILL BE PROVIDED UPON REGISTRATION AND SENT TO YOU IN A CONFIRMATION EMAIL AFTER REGISTRATION IS COMPLETE. IF YOU DO NOT FIND YOUR CONFIRMATION EMAIL\, PLEASE CHECK YOUR SPAM OR PROMO FOLDERS. \nI understand that I am signing up for a blended learning class\, which includes an initial online course and it is my responsibility to complete the online course before my scheduled class.
URL:https://helpfulhandscpr.com/event/august-6-2024-auburn-pakachoag-center-basic-life-support-bls-cpr-aed-course/
LOCATION:Pakachoag Center\, 203 Pakachoag St\, Auburn\, MA\, 01501\, United States
CATEGORIES:All Except Schools,ARC
ATTACH;FMTTYPE=image/png:https://helpfulhandscpr.com/wp-content/uploads/2023/08/Helpful-Hands-CPR-CPR-AED-min.png
ORGANIZER;CN="Helpful Hands CPR":MAILTO:gary@helpfulhandscpr.com
END:VEVENT
BEGIN:VEVENT
DTSTART;TZID=America/New_York:20240813T180000
DTEND;TZID=America/New_York:20240813T200000
DTSTAMP:20260421T111047
CREATED:20240626T133826Z
LAST-MODIFIED:20240626T133826Z
UID:5240-1723572000-1723579200@helpfulhandscpr.com
SUMMARY:August 13\, 2024– AUBURN Pakachoag Center – Basic Life Support (BLS) CPR AED Course
DESCRIPTION:Online Course \nLearn from home! This online course is provided as part of the American Red Cross Blended Learning program. Participants are required to complete the online training PRIOR to the in person skill based class. Participants must provide proof of completion upon arrival. \nNOTE: A LINK TO YOUR ONLINE COURSE WILL BE PROVIDED UPON REGISTRATION AND SENT TO YOU IN A CONFIRMATION EMAIL AFTER REGISTRATION IS COMPLETE. IF YOU DO NOT FIND YOUR CONFIRMATION EMAIL\, PLEASE CHECK YOUR SPAM OR PROMO FOLDERS. \nI understand that I am signing up for a blended learning class\, which includes an initial online course and it is my responsibility to complete the online course before my scheduled class.
URL:https://helpfulhandscpr.com/event/august-13-2024-auburn-pakachoag-center-basic-life-support-bls-cpr-aed-course/
LOCATION:Pakachoag Center\, 203 Pakachoag St\, Auburn\, MA\, 01501\, United States
CATEGORIES:All Except Schools,ARC
ATTACH;FMTTYPE=image/png:https://helpfulhandscpr.com/wp-content/uploads/2023/08/Helpful-Hands-CPR-CPR-AED-min.png
ORGANIZER;CN="Helpful Hands CPR":MAILTO:gary@helpfulhandscpr.com
END:VEVENT
BEGIN:VEVENT
DTSTART;TZID=America/New_York:20240817T090000
DTEND;TZID=America/New_York:20240817T110000
DTSTAMP:20260421T111047
CREATED:20240626T135435Z
LAST-MODIFIED:20240626T135435Z
UID:5249-1723885200-1723892400@helpfulhandscpr.com
SUMMARY:August 17\, 2024– AUBURN Pakachoag Center – Basic Life Support (BLS) CPR AED Course
DESCRIPTION:Online Course \nLearn from home! This online course is provided as part of the American Red Cross Blended Learning program. Participants are required to complete the online training PRIOR to the in person skill based class. Participants must provide proof of completion upon arrival. \nNOTE: A LINK TO YOUR ONLINE COURSE WILL BE PROVIDED UPON REGISTRATION AND SENT TO YOU IN A CONFIRMATION EMAIL AFTER REGISTRATION IS COMPLETE. IF YOU DO NOT FIND YOUR CONFIRMATION EMAIL\, PLEASE CHECK YOUR SPAM OR PROMO FOLDERS. \nI understand that I am signing up for a blended learning class\, which includes an initial online course and it is my responsibility to complete the online course before my scheduled class.
URL:https://helpfulhandscpr.com/event/august-17-2024-auburn-pakachoag-center-basic-life-support-bls-cpr-aed-course/
LOCATION:Pakachoag Center\, 203 Pakachoag St\, Auburn\, MA\, 01501\, United States
CATEGORIES:All Except Schools,ARC
ATTACH;FMTTYPE=image/png:https://helpfulhandscpr.com/wp-content/uploads/2023/08/Helpful-Hands-CPR-CPR-AED-min.png
ORGANIZER;CN="Helpful Hands CPR":MAILTO:gary@helpfulhandscpr.com
END:VEVENT
BEGIN:VEVENT
DTSTART;TZID=America/New_York:20240824T090000
DTEND;TZID=America/New_York:20240824T110000
DTSTAMP:20260421T111047
CREATED:20240626T135732Z
LAST-MODIFIED:20240626T135732Z
UID:5252-1724490000-1724497200@helpfulhandscpr.com
SUMMARY:August 24\, 2024– AUBURN Pakachoag Center – Basic Life Support (BLS) CPR AED Course
DESCRIPTION:Online Course \nLearn from home! This online course is provided as part of the American Red Cross Blended Learning program. Participants are required to complete the online training PRIOR to the in person skill based class. Participants must provide proof of completion upon arrival. \nNOTE: A LINK TO YOUR ONLINE COURSE WILL BE PROVIDED UPON REGISTRATION AND SENT TO YOU IN A CONFIRMATION EMAIL AFTER REGISTRATION IS COMPLETE. IF YOU DO NOT FIND YOUR CONFIRMATION EMAIL\, PLEASE CHECK YOUR SPAM OR PROMO FOLDERS. \nI understand that I am signing up for a blended learning class\, which includes an initial online course and it is my responsibility to complete the online course before my scheduled class.
URL:https://helpfulhandscpr.com/event/august-24-2024-auburn-pakachoag-center-basic-life-support-bls-cpr-aed-course/
LOCATION:Pakachoag Center\, 203 Pakachoag St\, Auburn\, MA\, 01501\, United States
CATEGORIES:All Except Schools,ARC
ATTACH;FMTTYPE=image/png:https://helpfulhandscpr.com/wp-content/uploads/2023/08/Helpful-Hands-CPR-CPR-AED-min.png
ORGANIZER;CN="Helpful Hands CPR":MAILTO:gary@helpfulhandscpr.com
END:VEVENT
BEGIN:VEVENT
DTSTART;TZID=America/New_York:20240829T180000
DTEND;TZID=America/New_York:20240829T200000
DTSTAMP:20260421T111047
CREATED:20240626T134153Z
LAST-MODIFIED:20240717T144510Z
UID:5243-1724954400-1724961600@helpfulhandscpr.com
SUMMARY:August 29\, 2024– AUBURN Pakachoag Center – Basic Life Support (BLS) CPR AED Course
DESCRIPTION:Online Course \nLearn from home! This online course is provided as part of the American Red Cross Blended Learning program. Participants are required to complete the online training PRIOR to the in person skill based class. Participants must provide proof of completion upon arrival. \nNOTE: A LINK TO YOUR ONLINE COURSE WILL BE PROVIDED UPON REGISTRATION AND SENT TO YOU IN A CONFIRMATION EMAIL AFTER REGISTRATION IS COMPLETE. IF YOU DO NOT FIND YOUR CONFIRMATION EMAIL\, PLEASE CHECK YOUR SPAM OR PROMO FOLDERS. \nI understand that I am signing up for a blended learning class\, which includes an initial online course and it is my responsibility to complete the online course before my scheduled class.
URL:https://helpfulhandscpr.com/event/august-29-2024-auburn-pakachoag-center-basic-life-support-bls-cpr-aed-course/
LOCATION:Pakachoag Center\, 203 Pakachoag St\, Auburn\, MA\, 01501\, United States
CATEGORIES:All Except Schools,ARC
ATTACH;FMTTYPE=image/png:https://helpfulhandscpr.com/wp-content/uploads/2023/08/Helpful-Hands-CPR-CPR-AED-min.png
ORGANIZER;CN="Helpful Hands CPR":MAILTO:gary@helpfulhandscpr.com
END:VEVENT
END:VCALENDAR