BEGIN:VCALENDAR
VERSION:2.0
PRODID:-//Helpful Hands CPR - ECPv6.15.18//NONSGML v1.0//EN
CALSCALE:GREGORIAN
METHOD:PUBLISH
X-ORIGINAL-URL:https://helpfulhandscpr.com
X-WR-CALDESC:Events for Helpful Hands CPR
REFRESH-INTERVAL;VALUE=DURATION:PT1H
X-Robots-Tag:noindex
X-PUBLISHED-TTL:PT1H
BEGIN:VTIMEZONE
TZID:America/New_York
BEGIN:DAYLIGHT
TZOFFSETFROM:-0500
TZOFFSETTO:-0400
TZNAME:EDT
DTSTART:20230312T070000
END:DAYLIGHT
BEGIN:STANDARD
TZOFFSETFROM:-0400
TZOFFSETTO:-0500
TZNAME:EST
DTSTART:20231105T060000
END:STANDARD
BEGIN:DAYLIGHT
TZOFFSETFROM:-0500
TZOFFSETTO:-0400
TZNAME:EDT
DTSTART:20240310T070000
END:DAYLIGHT
BEGIN:STANDARD
TZOFFSETFROM:-0400
TZOFFSETTO:-0500
TZNAME:EST
DTSTART:20241103T060000
END:STANDARD
BEGIN:DAYLIGHT
TZOFFSETFROM:-0500
TZOFFSETTO:-0400
TZNAME:EDT
DTSTART:20250309T070000
END:DAYLIGHT
BEGIN:STANDARD
TZOFFSETFROM:-0400
TZOFFSETTO:-0500
TZNAME:EST
DTSTART:20251102T060000
END:STANDARD
END:VTIMEZONE
BEGIN:VEVENT
DTSTART;TZID=America/New_York:20240905T180000
DTEND;TZID=America/New_York:20240905T200000
DTSTAMP:20260421T095808
CREATED:20240726T145452Z
LAST-MODIFIED:20240726T145452Z
UID:5372-1725559200-1725566400@helpfulhandscpr.com
SUMMARY:September 5\, 2024– AUBURN Pakachoag Center – Basic Life Support (BLS) CPR AED Course
DESCRIPTION:Online Course \nLearn from home! This online course is provided as part of the American Red Cross Blended Learning program. Participants are required to complete the online training PRIOR to the in person skill based class. Participants must provide proof of completion upon arrival. \nNOTE: A LINK TO YOUR ONLINE COURSE WILL BE PROVIDED UPON REGISTRATION AND SENT TO YOU IN A CONFIRMATION EMAIL AFTER REGISTRATION IS COMPLETE. IF YOU DO NOT FIND YOUR CONFIRMATION EMAIL\, PLEASE CHECK YOUR SPAM OR PROMO FOLDERS. \nI understand that I am signing up for a blended learning class\, which includes an initial online course and it is my responsibility to complete the online course before my scheduled class.
URL:https://helpfulhandscpr.com/event/september-5-2024-auburn-pakachoag-center-basic-life-support-bls-cpr-aed-course/
LOCATION:Pakachoag Center\, 203 Pakachoag St\, Auburn\, MA\, 01501\, United States
CATEGORIES:All Except Schools,ARC
ATTACH;FMTTYPE=image/png:https://helpfulhandscpr.com/wp-content/uploads/2023/08/Helpful-Hands-CPR-CPR-AED-min.png
ORGANIZER;CN="Helpful Hands CPR":MAILTO:gary@helpfulhandscpr.com
END:VEVENT
BEGIN:VEVENT
DTSTART;TZID=America/New_York:20240910T180000
DTEND;TZID=America/New_York:20240910T200000
DTSTAMP:20260421T095808
CREATED:20240726T145647Z
LAST-MODIFIED:20240726T145647Z
UID:5375-1725991200-1725998400@helpfulhandscpr.com
SUMMARY:September 10\, 2024– AUBURN Pakachoag Center – Basic Life Support (BLS) CPR AED Course
DESCRIPTION:Online Course \nLearn from home! This online course is provided as part of the American Red Cross Blended Learning program. Participants are required to complete the online training PRIOR to the in person skill based class. Participants must provide proof of completion upon arrival. \nNOTE: A LINK TO YOUR ONLINE COURSE WILL BE PROVIDED UPON REGISTRATION AND SENT TO YOU IN A CONFIRMATION EMAIL AFTER REGISTRATION IS COMPLETE. IF YOU DO NOT FIND YOUR CONFIRMATION EMAIL\, PLEASE CHECK YOUR SPAM OR PROMO FOLDERS. \nI understand that I am signing up for a blended learning class\, which includes an initial online course and it is my responsibility to complete the online course before my scheduled class.
URL:https://helpfulhandscpr.com/event/september-10-2024-auburn-pakachoag-center-basic-life-support-bls-cpr-aed-course/
LOCATION:Pakachoag Center\, 203 Pakachoag St\, Auburn\, MA\, 01501\, United States
CATEGORIES:All Except Schools,ARC
ATTACH;FMTTYPE=image/png:https://helpfulhandscpr.com/wp-content/uploads/2023/08/Helpful-Hands-CPR-CPR-AED-min.png
ORGANIZER;CN="Helpful Hands CPR":MAILTO:gary@helpfulhandscpr.com
END:VEVENT
BEGIN:VEVENT
DTSTART;TZID=America/New_York:20240914T090000
DTEND;TZID=America/New_York:20240914T110000
DTSTAMP:20260421T095808
CREATED:20240726T150157Z
LAST-MODIFIED:20240726T150555Z
UID:5381-1726304400-1726311600@helpfulhandscpr.com
SUMMARY:September 14\, 2024– AUBURN Pakachoag Center – Basic Life Support (BLS) CPR AED Course
DESCRIPTION:Online Course \nLearn from home! This online course is provided as part of the American Red Cross Blended Learning program. Participants are required to complete the online training PRIOR to the in person skill based class. Participants must provide proof of completion upon arrival. \nNOTE: A LINK TO YOUR ONLINE COURSE WILL BE PROVIDED UPON REGISTRATION AND SENT TO YOU IN A CONFIRMATION EMAIL AFTER REGISTRATION IS COMPLETE. IF YOU DO NOT FIND YOUR CONFIRMATION EMAIL\, PLEASE CHECK YOUR SPAM OR PROMO FOLDERS. \nI understand that I am signing up for a blended learning class\, which includes an initial online course and it is my responsibility to complete the online course before my scheduled class.
URL:https://helpfulhandscpr.com/event/september14-2024-auburn-pakachoag-center-basic-life-support-bls-cpr-aed-course/
LOCATION:Pakachoag Center\, 203 Pakachoag St\, Auburn\, MA\, 01501\, United States
CATEGORIES:All Except Schools,ARC
ATTACH;FMTTYPE=image/png:https://helpfulhandscpr.com/wp-content/uploads/2023/08/Helpful-Hands-CPR-CPR-AED-min.png
ORGANIZER;CN="Helpful Hands CPR":MAILTO:gary@helpfulhandscpr.com
END:VEVENT
BEGIN:VEVENT
DTSTART;TZID=America/New_York:20240917T180000
DTEND;TZID=America/New_York:20240917T200000
DTSTAMP:20260421T095808
CREATED:20240726T145828Z
LAST-MODIFIED:20240726T145828Z
UID:5378-1726596000-1726603200@helpfulhandscpr.com
SUMMARY:September 17\, 2024– AUBURN Pakachoag Center – Basic Life Support (BLS) CPR AED Course
DESCRIPTION:Online Course \nLearn from home! This online course is provided as part of the American Red Cross Blended Learning program. Participants are required to complete the online training PRIOR to the in person skill based class. Participants must provide proof of completion upon arrival. \nNOTE: A LINK TO YOUR ONLINE COURSE WILL BE PROVIDED UPON REGISTRATION AND SENT TO YOU IN A CONFIRMATION EMAIL AFTER REGISTRATION IS COMPLETE. IF YOU DO NOT FIND YOUR CONFIRMATION EMAIL\, PLEASE CHECK YOUR SPAM OR PROMO FOLDERS. \nI understand that I am signing up for a blended learning class\, which includes an initial online course and it is my responsibility to complete the online course before my scheduled class.
URL:https://helpfulhandscpr.com/event/september-17-2024-auburn-pakachoag-center-basic-life-support-bls-cpr-aed-course/
LOCATION:Pakachoag Center\, 203 Pakachoag St\, Auburn\, MA\, 01501\, United States
CATEGORIES:All Except Schools,ARC
ATTACH;FMTTYPE=image/png:https://helpfulhandscpr.com/wp-content/uploads/2023/08/Helpful-Hands-CPR-CPR-AED-min.png
ORGANIZER;CN="Helpful Hands CPR":MAILTO:gary@helpfulhandscpr.com
END:VEVENT
BEGIN:VEVENT
DTSTART;TZID=America/New_York:20240921T090000
DTEND;TZID=America/New_York:20240921T110000
DTSTAMP:20260421T095808
CREATED:20240726T150801Z
LAST-MODIFIED:20240726T150801Z
UID:5387-1726909200-1726916400@helpfulhandscpr.com
SUMMARY:September 21\, 2024– AUBURN Pakachoag Center – Basic Life Support (BLS) CPR AED Course
DESCRIPTION:Online Course \nLearn from home! This online course is provided as part of the American Red Cross Blended Learning program. Participants are required to complete the online training PRIOR to the in person skill based class. Participants must provide proof of completion upon arrival. \nNOTE: A LINK TO YOUR ONLINE COURSE WILL BE PROVIDED UPON REGISTRATION AND SENT TO YOU IN A CONFIRMATION EMAIL AFTER REGISTRATION IS COMPLETE. IF YOU DO NOT FIND YOUR CONFIRMATION EMAIL\, PLEASE CHECK YOUR SPAM OR PROMO FOLDERS. \nI understand that I am signing up for a blended learning class\, which includes an initial online course and it is my responsibility to complete the online course before my scheduled class.
URL:https://helpfulhandscpr.com/event/september-21-2024-auburn-pakachoag-center-basic-life-support-bls-cpr-aed-course/
LOCATION:Pakachoag Center\, 203 Pakachoag St\, Auburn\, MA\, 01501\, United States
CATEGORIES:All Except Schools,ARC
ATTACH;FMTTYPE=image/png:https://helpfulhandscpr.com/wp-content/uploads/2023/08/Helpful-Hands-CPR-CPR-AED-min.png
ORGANIZER;CN="Helpful Hands CPR":MAILTO:gary@helpfulhandscpr.com
END:VEVENT
BEGIN:VEVENT
DTSTART;TZID=America/New_York:20240928T090000
DTEND;TZID=America/New_York:20240928T110000
DTSTAMP:20260421T095808
CREATED:20240726T151050Z
LAST-MODIFIED:20240917T165130Z
UID:5390-1727514000-1727521200@helpfulhandscpr.com
SUMMARY:September 28\, 2024– AUBURN Pakachoag Center – Basic Life Support (BLS) CPR AED Course
DESCRIPTION:Online Course \nLearn from home! This online course is provided as part of the American Red Cross Blended Learning program. Participants are required to complete the online training PRIOR to the in person skill based class. Participants must provide proof of completion upon arrival. \nNOTE: A LINK TO YOUR ONLINE COURSE WILL BE PROVIDED UPON REGISTRATION AND SENT TO YOU IN A CONFIRMATION EMAIL AFTER REGISTRATION IS COMPLETE. IF YOU DO NOT FIND YOUR CONFIRMATION EMAIL\, PLEASE CHECK YOUR SPAM OR PROMO FOLDERS. \nI understand that I am signing up for a blended learning class\, which includes an initial online course and it is my responsibility to complete the online course before my scheduled class.
URL:https://helpfulhandscpr.com/event/september-28-2024-auburn-pakachoag-center-basic-life-support-bls-cpr-aed-course/
LOCATION:Pakachoag Center\, 203 Pakachoag St\, Auburn\, MA\, 01501\, United States
CATEGORIES:All Except Schools,ARC
ATTACH;FMTTYPE=image/png:https://helpfulhandscpr.com/wp-content/uploads/2023/08/Helpful-Hands-CPR-CPR-AED-min.png
ORGANIZER;CN="Helpful Hands CPR":MAILTO:gary@helpfulhandscpr.com
END:VEVENT
BEGIN:VEVENT
DTSTART;TZID=America/New_York:20240929T100000
DTEND;TZID=America/New_York:20240929T120000
DTSTAMP:20260421T095808
CREATED:20240726T151258Z
LAST-MODIFIED:20240726T151258Z
UID:5393-1727604000-1727611200@helpfulhandscpr.com
SUMMARY:September 29\, 2024– AUBURN Pakachoag Center – Basic Life Support (BLS) CPR AED Course
DESCRIPTION:Online Course \nLearn from home! This online course is provided as part of the American Red Cross Blended Learning program. Participants are required to complete the online training PRIOR to the in person skill based class. Participants must provide proof of completion upon arrival. \nNOTE: A LINK TO YOUR ONLINE COURSE WILL BE PROVIDED UPON REGISTRATION AND SENT TO YOU IN A CONFIRMATION EMAIL AFTER REGISTRATION IS COMPLETE. IF YOU DO NOT FIND YOUR CONFIRMATION EMAIL\, PLEASE CHECK YOUR SPAM OR PROMO FOLDERS. \nI understand that I am signing up for a blended learning class\, which includes an initial online course and it is my responsibility to complete the online course before my scheduled class.
URL:https://helpfulhandscpr.com/event/september-29-2024-auburn-pakachoag-center-basic-life-support-bls-cpr-aed-course/
LOCATION:Pakachoag Center\, 203 Pakachoag St\, Auburn\, MA\, 01501\, United States
CATEGORIES:All Except Schools,ARC
ATTACH;FMTTYPE=image/png:https://helpfulhandscpr.com/wp-content/uploads/2023/08/Helpful-Hands-CPR-CPR-AED-min.png
ORGANIZER;CN="Helpful Hands CPR":MAILTO:gary@helpfulhandscpr.com
END:VEVENT
END:VCALENDAR