BEGIN:VCALENDAR
VERSION:2.0
PRODID:-//Helpful Hands CPR - ECPv6.15.18//NONSGML v1.0//EN
CALSCALE:GREGORIAN
METHOD:PUBLISH
X-ORIGINAL-URL:https://helpfulhandscpr.com
X-WR-CALDESC:Events for Helpful Hands CPR
REFRESH-INTERVAL;VALUE=DURATION:PT1H
X-Robots-Tag:noindex
X-PUBLISHED-TTL:PT1H
BEGIN:VTIMEZONE
TZID:America/New_York
BEGIN:DAYLIGHT
TZOFFSETFROM:-0500
TZOFFSETTO:-0400
TZNAME:EDT
DTSTART:20240310T070000
END:DAYLIGHT
BEGIN:STANDARD
TZOFFSETFROM:-0400
TZOFFSETTO:-0500
TZNAME:EST
DTSTART:20241103T060000
END:STANDARD
BEGIN:DAYLIGHT
TZOFFSETFROM:-0500
TZOFFSETTO:-0400
TZNAME:EDT
DTSTART:20250309T070000
END:DAYLIGHT
BEGIN:STANDARD
TZOFFSETFROM:-0400
TZOFFSETTO:-0500
TZNAME:EST
DTSTART:20251102T060000
END:STANDARD
BEGIN:DAYLIGHT
TZOFFSETFROM:-0500
TZOFFSETTO:-0400
TZNAME:EDT
DTSTART:20260308T070000
END:DAYLIGHT
BEGIN:STANDARD
TZOFFSETFROM:-0400
TZOFFSETTO:-0500
TZNAME:EST
DTSTART:20261101T060000
END:STANDARD
END:VTIMEZONE
BEGIN:VEVENT
DTSTART;TZID=America/New_York:20250205T180000
DTEND;TZID=America/New_York:20250205T200000
DTSTAMP:20260421T041411
CREATED:20250126T140546Z
LAST-MODIFIED:20250126T140546Z
UID:6110-1738778400-1738785600@helpfulhandscpr.com
SUMMARY:February 5\, 2025– AUBURN Pakachoag Center – Basic Life Support (BLS) CPR AED Course
DESCRIPTION:Online Course \nLearn from home! This online course is provided as part of the American Red Cross Blended Learning program. Participants are required to complete the online training PRIOR to the in person skill based class. Participants must provide proof of completion upon arrival. \nNOTE: YOUR PURCHASE RECEIPT AND TICKET WILL CONTAIN A  LINK TO THE RED CROSS ONLINE COURSE \nI understand that I am signing up for a blended learning class\, which includes an initial online course and it is my responsibility to complete the online course before my scheduled class.
URL:https://helpfulhandscpr.com/event/february-5-2025-auburn-pakachoag-center-basic-life-support-bls-cpr-aed-course/
LOCATION:Pakachoag Center\, 203 Pakachoag St\, Auburn\, MA\, 01501\, United States
CATEGORIES:All Except Schools,ARC
ATTACH;FMTTYPE=image/png:https://helpfulhandscpr.com/wp-content/uploads/2023/08/Helpful-Hands-CPR-CPR-AED-min.png
ORGANIZER;CN="Helpful Hands CPR":MAILTO:gary@helpfulhandscpr.com
END:VEVENT
BEGIN:VEVENT
DTSTART;TZID=America/New_York:20250209T100000
DTEND;TZID=America/New_York:20250209T120000
DTSTAMP:20260421T041411
CREATED:20250126T140142Z
LAST-MODIFIED:20250126T140142Z
UID:6107-1739095200-1739102400@helpfulhandscpr.com
SUMMARY:February 9\, 2025– AUBURN Pakachoag Center – Basic Life Support (BLS) CPR AED Course
DESCRIPTION:Online Course \nLearn from home! This online course is provided as part of the American Red Cross Blended Learning program. Participants are required to complete the online training PRIOR to the in person skill based class. Participants must provide proof of completion upon arrival. \nNOTE: YOUR PURCHASE RECEIPT AND TICKET WILL CONTAIN A  LINK \nTO THE RED CROSS ONLINE COURSE \nI understand that I am signing up for a blended learning class\, which includes an initial online course and it is my responsibility to complete the online course before my scheduled class.
URL:https://helpfulhandscpr.com/event/february-9-2025-auburn-pakachoag-center-basic-life-support-bls-cpr-aed-course/
LOCATION:Pakachoag Center\, 203 Pakachoag St\, Auburn\, MA\, 01501\, United States
CATEGORIES:All Except Schools,ARC
ATTACH;FMTTYPE=image/png:https://helpfulhandscpr.com/wp-content/uploads/2023/08/Helpful-Hands-CPR-CPR-AED-min.png
ORGANIZER;CN="Helpful Hands CPR":MAILTO:gary@helpfulhandscpr.com
END:VEVENT
BEGIN:VEVENT
DTSTART;TZID=America/New_York:20250213T180000
DTEND;TZID=America/New_York:20250213T200000
DTSTAMP:20260421T041411
CREATED:20250126T141549Z
LAST-MODIFIED:20250211T183006Z
UID:6113-1739469600-1739476800@helpfulhandscpr.com
SUMMARY:February 13\, 2025– AUBURN Pakachoag Center – Basic Life Support (BLS) CPR AED Course
DESCRIPTION:Online Course \nLearn from home! This online course is provided as part of the American Red Cross Blended Learning program. Participants are required to complete the online training PRIOR to the in person skill based class. Participants must provide proof of completion upon arrival. \nNOTE: YOUR PURCHASE RECEIPT AND TICKET WILL CONTAIN A  LINK TO THE RED CROSS ONLINE COURSE \nI understand that I am signing up for a blended learning class\, which includes an initial online course and it is my responsibility to complete the online course before my scheduled class.
URL:https://helpfulhandscpr.com/event/february-13-2025-auburn-pakachoag-center-basic-life-support-bls-cpr-aed-course/
LOCATION:Pakachoag Center\, 203 Pakachoag St\, Auburn\, MA\, 01501\, United States
CATEGORIES:All Except Schools,ARC
ATTACH;FMTTYPE=image/png:https://helpfulhandscpr.com/wp-content/uploads/2023/08/Helpful-Hands-CPR-CPR-AED-min.png
ORGANIZER;CN="Helpful Hands CPR":MAILTO:gary@helpfulhandscpr.com
END:VEVENT
BEGIN:VEVENT
DTSTART;TZID=America/New_York:20250219T180000
DTEND;TZID=America/New_York:20250219T200000
DTSTAMP:20260421T041411
CREATED:20250126T141809Z
LAST-MODIFIED:20250126T141809Z
UID:6116-1739988000-1739995200@helpfulhandscpr.com
SUMMARY:February 19\, 2025– AUBURN Pakachoag Center – Basic Life Support (BLS) CPR AED Course
DESCRIPTION:Online Course \nLearn from home! This online course is provided as part of the American Red Cross Blended Learning program. Participants are required to complete the online training PRIOR to the in person skill based class. Participants must provide proof of completion upon arrival. \nNOTE: YOUR PURCHASE RECEIPT AND TICKET WILL CONTAIN A  LINK TO THE RED CROSS ONLINE COURSE \nI understand that I am signing up for a blended learning class\, which includes an initial online course and it is my responsibility to complete the online course before my scheduled class.
URL:https://helpfulhandscpr.com/event/february-19-2025-auburn-pakachoag-center-basic-life-support-bls-cpr-aed-course/
LOCATION:Pakachoag Center\, 203 Pakachoag St\, Auburn\, MA\, 01501\, United States
CATEGORIES:All Except Schools,ARC
ATTACH;FMTTYPE=image/png:https://helpfulhandscpr.com/wp-content/uploads/2023/08/Helpful-Hands-CPR-CPR-AED-min.png
ORGANIZER;CN="Helpful Hands CPR":MAILTO:gary@helpfulhandscpr.com
END:VEVENT
BEGIN:VEVENT
DTSTART;TZID=America/New_York:20250227T180000
DTEND;TZID=America/New_York:20250227T200000
DTSTAMP:20260421T041411
CREATED:20250126T142053Z
LAST-MODIFIED:20250226T165909Z
UID:6119-1740679200-1740686400@helpfulhandscpr.com
SUMMARY:February 27\, 2025– AUBURN Pakachoag Center – Basic Life Support (BLS) CPR AED Course
DESCRIPTION:Online Course \nLearn from home! This online course is provided as part of the American Red Cross Blended Learning program. Participants are required to complete the online training PRIOR to the in person skill based class. Participants must provide proof of completion upon arrival. \nNOTE: YOUR PURCHASE RECEIPT AND TICKET WILL CONTAIN A  LINK TO THE RED CROSS ONLINE COURSE \nI understand that I am signing up for a blended learning class\, which includes an initial online course and it is my responsibility to complete the online course before my scheduled class.
URL:https://helpfulhandscpr.com/event/february-27-2025-auburn-pakachoag-center-basic-life-support-bls-cpr-aed-course/
LOCATION:Pakachoag Center\, 203 Pakachoag St\, Auburn\, MA\, 01501\, United States
CATEGORIES:All Except Schools,ARC
ATTACH;FMTTYPE=image/png:https://helpfulhandscpr.com/wp-content/uploads/2023/08/Helpful-Hands-CPR-CPR-AED-min.png
ORGANIZER;CN="Helpful Hands CPR":MAILTO:gary@helpfulhandscpr.com
END:VEVENT
END:VCALENDAR